BEGIN:VCALENDAR
VERSION:2.0
PRODID:-//Wiener Bildungsakademie - ECPv6.15.11//NONSGML v1.0//EN
CALSCALE:GREGORIAN
METHOD:PUBLISH
X-WR-CALNAME:Wiener Bildungsakademie
X-ORIGINAL-URL:https://wiener-bildungsakademie.wien
X-WR-CALDESC:Veranstaltungen für Wiener Bildungsakademie
REFRESH-INTERVAL;VALUE=DURATION:PT1H
X-Robots-Tag:noindex
X-PUBLISHED-TTL:PT1H
BEGIN:VTIMEZONE
TZID:Europe/Vienna
BEGIN:DAYLIGHT
TZOFFSETFROM:+0100
TZOFFSETTO:+0200
TZNAME:CEST
DTSTART:20240331T010000
END:DAYLIGHT
BEGIN:STANDARD
TZOFFSETFROM:+0200
TZOFFSETTO:+0100
TZNAME:CET
DTSTART:20241027T010000
END:STANDARD
BEGIN:DAYLIGHT
TZOFFSETFROM:+0100
TZOFFSETTO:+0200
TZNAME:CEST
DTSTART:20250330T010000
END:DAYLIGHT
BEGIN:STANDARD
TZOFFSETFROM:+0200
TZOFFSETTO:+0100
TZNAME:CET
DTSTART:20251026T010000
END:STANDARD
BEGIN:DAYLIGHT
TZOFFSETFROM:+0100
TZOFFSETTO:+0200
TZNAME:CEST
DTSTART:20260329T010000
END:DAYLIGHT
BEGIN:STANDARD
TZOFFSETFROM:+0200
TZOFFSETTO:+0100
TZNAME:CET
DTSTART:20261025T010000
END:STANDARD
END:VTIMEZONE
BEGIN:VEVENT
DTSTART;TZID=Europe/Vienna:20251206T090000
DTEND;TZID=Europe/Vienna:20251206T170000
DTSTAMP:20260420T001313
CREATED:20250702T123107Z
LAST-MODIFIED:20250702T123107Z
UID:13031-1765011600-1765040400@wiener-bildungsakademie.wien
SUMMARY:Smart Politics: Wie Künstliche Intelligenz die Politik verändert
DESCRIPTION:Künstliche Intelligenz ist längst kein abstraktes Zukunftsthema mehr – sie beeinflusst bereits heute unser Leben\, unsere Entscheidungen und zunehmend auch die politische Praxis. Doch was steckt wirklich hinter den Algorithmen\, die immer öfter im Hintergrund mitentscheiden? Welche Chancen und Risiken birgt der Einsatz von KI für Demokratie\, politische Kommunikation und Entscheidungsfindung? \nIn diesem Workshop widmen wir uns den Grundlagen und konkreten Anwendungen von Künstlicher Intelligenz im politischen Kontext. Wir erklären verständlich\, wie KI funktioniert\, wo sie eingesetzt wird – und was das für politische Akteur:innen bedeutet. Dabei geht es nicht nur um technisches Know-how\, sondern vor allem um strategisches Denken: Wie kann KI genutzt werden\, um Bürger:innen besser zu erreichen\, Entscheidungen fundierter zu treffen oder politische Prozesse effizienter zu gestalten? \nGleichzeitig beleuchten wir kritisch die ethischen\, demokratiepolitischen und gesellschaftlichen Herausforderungen: Welche Verantwortung tragen Politik und Verwaltung im Umgang mit KI? Wo sind klare Regeln notwendig – und wie können wir sicherstellen\, dass technologische Entwicklungen nicht demokratische Prinzipien untergraben? \nMit Praxisbeispielen\, Tools und interaktiven Übungen bietet der Workshop einen kompakten\, verständlichen und inspirierenden Einstieg in ein Thema\, das die politische Arbeit der Zukunft maßgeblich mitgestalten wird. \nTermin: Samstag\, 6. Dezember 2025\, 9:00 bis 17:00 Uhr \nOrt: Wiener Bildungszentrum\, Wien 2\, Praterstraße 25a/Tür 7\, U1-Station Nestroyplatz \nTrainerin: Zeina Abdel-Keream ist Trainerin mit Schwerpunkt auf Künstlicher Intelligenz und ihrer praktischen Anwendung in Bildung\, Alltag und gesellschaftlichem Engagement. In ihren Workshops vermittelt sie KI-Grundlagen verständlich und praxisnah – immer mit Blick auf Chancen\, Grenzen und den verantwortungsvollen Umgang mit Technologie. \nZielgruppe: Der Workshop richtet sich an politisch aktive Menschen\, die sich mit den Möglichkeiten und Herausforderungen digitaler Technologien auseinandersetzen wollen – unabhängig davon\, ob sie in Parteien\, Parlamenten\, Interessensvertretungen\, NGOs oder der öffentlichen Verwaltung tätig sind. Besonders angesprochen sind Mandatar:innen\, politische Mitarbeiter:innen\, Kampagnenverantwortliche\, Kommunikationsfachleute\, Strateg:innen sowie Entscheidungsträger:innen\, die an der Schnittstelle von Politik\, Gesellschaft und Technologie arbeiten. \nEbenso richtet sich das Angebot an zivilgesellschaftlich Engagierte und politische Bildner:innen\, die neue Wege der Beteiligung\, Kommunikation und Organisation erschließen möchten – sowie an alle\, die verstehen wollen\, wie Künstliche Intelligenz politische Prozesse verändern kann und wie man diese Entwicklung aktiv mitgestaltet. Dabei spielt es keine Rolle\, ob bereits technisches Vorwissen vorhanden ist – entscheidend ist die Bereitschaft\, sich mit neuen Denkweisen\, Tools und politischen Fragestellungen im digitalen Zeitalter auseinanderzusetzen. \nVoraussetzungen: Wir bitten dich um ein kurzes Motivationsschreiben\, in dem du uns einen Einblick in deine bisherigen Erfahrungen in diesem Themenfeld gibst und darstellst\, in welchem Kontext du die Inhalte der Ausbildung künftig anwenden möchtest. \nInformationen und Anmeldung: markytan@wiener-bildungsakademie.at bzw. +43 1 534 27/384
URL:https://wiener-bildungsakademie.wien/event/smart-politics-wie-kuenstliche-intelligenz-die-politik-veraendert/
LOCATION:Wiener Bildungszentrum\, Praterstraße 25a\, Wien\, 1020\, Österreich
CATEGORIES:Workshops
ORGANIZER;CN="WBA":MAILTO:kontakt@wiener-bildungsakademie.at
END:VEVENT
END:VCALENDAR