BEGIN:VCALENDAR
VERSION:2.0
PRODID:-//Wiener Bildungsakademie - ECPv6.15.11//NONSGML v1.0//EN
CALSCALE:GREGORIAN
METHOD:PUBLISH
X-WR-CALNAME:Wiener Bildungsakademie
X-ORIGINAL-URL:https://wiener-bildungsakademie.wien
X-WR-CALDESC:Veranstaltungen für Wiener Bildungsakademie
REFRESH-INTERVAL;VALUE=DURATION:PT1H
X-Robots-Tag:noindex
X-PUBLISHED-TTL:PT1H
BEGIN:VTIMEZONE
TZID:Europe/Vienna
BEGIN:DAYLIGHT
TZOFFSETFROM:+0100
TZOFFSETTO:+0200
TZNAME:CEST
DTSTART:20240331T010000
END:DAYLIGHT
BEGIN:STANDARD
TZOFFSETFROM:+0200
TZOFFSETTO:+0100
TZNAME:CET
DTSTART:20241027T010000
END:STANDARD
BEGIN:DAYLIGHT
TZOFFSETFROM:+0100
TZOFFSETTO:+0200
TZNAME:CEST
DTSTART:20250330T010000
END:DAYLIGHT
BEGIN:STANDARD
TZOFFSETFROM:+0200
TZOFFSETTO:+0100
TZNAME:CET
DTSTART:20251026T010000
END:STANDARD
BEGIN:DAYLIGHT
TZOFFSETFROM:+0100
TZOFFSETTO:+0200
TZNAME:CEST
DTSTART:20260329T010000
END:DAYLIGHT
BEGIN:STANDARD
TZOFFSETFROM:+0200
TZOFFSETTO:+0100
TZNAME:CET
DTSTART:20261025T010000
END:STANDARD
END:VTIMEZONE
BEGIN:VEVENT
DTSTART;TZID=Europe/Vienna:20251213T100000
DTEND;TZID=Europe/Vienna:20251213T120000
DTSTAMP:20260420T001344
CREATED:20250703T081232Z
LAST-MODIFIED:20250703T121532Z
UID:13081-1765620000-1765627200@wiener-bildungsakademie.wien
SUMMARY:Herbert Wagner: „Warten auf den Erlöser. Christliche Feiertage in der politischen und kapitalistischen Inszenierung“
DESCRIPTION:Was haben religiöse Feiertage mit Politik zu tun? Herbert Wagner geht der ideologischen Funktion christlicher Feste im gesellschaftlichen Alltag auf den Grund. Weihnachten\, Ostern oder Pfingsten sind nicht nur spirituelle Ereignisse – sie sind auch kulturell überformte Inszenierungen\, die politische Deutungsmacht und ökonomische Interessen miteinander verknüpfen. Wer feiert wie\, was – und warum? Wie werden Feiertage medial inszeniert\, kommerzialisiert oder vereinnahmt? Und was verrät ihr Wandel über gesellschaftliche Werte und ideologische Spannungsfelder? Eine ideologiekritische Analyse zwischen Religion\, Kapitalismus und kultureller Praxis. \nInformationen und Anmeldung:Die Veranstaltung findet im Wiener Bildungszentrum\, 1020 Wien\, Praterstraße 25a/Tür 7 (U1-Station Nestroyplatz) statt. Teilnahme offen für alle – unabhängig von Vorwissen oder Funktion. \nAnmeldung und Rückfragen bitte an: markytan@wiener-bildungsakademie.at oder telefonisch unter +43 1 534 27/384.
URL:https://wiener-bildungsakademie.wien/event/herbert-wagner-warten-auf-den-erloeser-christliche-feiertage-in-der-politischen-und-kapitalistischen-inszenierung/
LOCATION:Wiener Bildungszentrum\, Praterstraße 25a\, Wien\, 1020\, Österreich
CATEGORIES:Ideologie im Gespräch - Werte. Weltbilder. Wirklichkeit.
ATTACH;FMTTYPE=image/jpeg:https://wiener-bildungsakademie.wien/wp-content/uploads/2025/07/wba_Ausbildungsprogramm2025_eventbrite_2160x1080px16.jpg
ORGANIZER;CN="WBA":MAILTO:kontakt@wiener-bildungsakademie.at
END:VEVENT
END:VCALENDAR