BEGIN:VCALENDAR
VERSION:2.0
PRODID:-//Wiener Bildungsakademie - ECPv6.15.11//NONSGML v1.0//EN
CALSCALE:GREGORIAN
METHOD:PUBLISH
X-ORIGINAL-URL:https://wiener-bildungsakademie.wien
X-WR-CALDESC:Veranstaltungen für Wiener Bildungsakademie
REFRESH-INTERVAL;VALUE=DURATION:PT1H
X-Robots-Tag:noindex
X-PUBLISHED-TTL:PT1H
BEGIN:VTIMEZONE
TZID:Europe/Vienna
BEGIN:DAYLIGHT
TZOFFSETFROM:+0100
TZOFFSETTO:+0200
TZNAME:CEST
DTSTART:20250330T010000
END:DAYLIGHT
BEGIN:STANDARD
TZOFFSETFROM:+0200
TZOFFSETTO:+0100
TZNAME:CET
DTSTART:20251026T010000
END:STANDARD
BEGIN:DAYLIGHT
TZOFFSETFROM:+0100
TZOFFSETTO:+0200
TZNAME:CEST
DTSTART:20260329T010000
END:DAYLIGHT
BEGIN:STANDARD
TZOFFSETFROM:+0200
TZOFFSETTO:+0100
TZNAME:CET
DTSTART:20261025T010000
END:STANDARD
BEGIN:DAYLIGHT
TZOFFSETFROM:+0100
TZOFFSETTO:+0200
TZNAME:CEST
DTSTART:20270328T010000
END:DAYLIGHT
BEGIN:STANDARD
TZOFFSETFROM:+0200
TZOFFSETTO:+0100
TZNAME:CET
DTSTART:20271031T010000
END:STANDARD
END:VTIMEZONE
BEGIN:VEVENT
DTSTART;TZID=Europe/Vienna:20260117T090000
DTEND;TZID=Europe/Vienna:20260117T170000
DTSTAMP:20260419T222730
CREATED:20260116T102947Z
LAST-MODIFIED:20260116T102947Z
UID:13525-1768640400-1768669200@wiener-bildungsakademie.wien
SUMMARY:Ideologien im Vergleich – Intensiv-Workshop mit Franz Koskarti
DESCRIPTION:Wie entstehen Ideologien\, wie wandeln sie sich – und wie prägen sie Politik und Alltag? In diesem kompakt angelegten Workshop folgen wir der Ideengeschichte von der Antike bis in die Gegenwart und vergleichen zentrale Strömungen wie Liberalismus\, Sozialismus\, Konservatismus\, Feminismus und Ökologie. Ziel ist es\, Gemeinsamkeiten und Unterschiede sichtbar zu machen und Ideologien nicht als starre Glaubenssysteme\, sondern als historisch gewachsene Deutungsangebote zu verstehen. \n„Ideologien sind Landkarten\, keine Schicksalsschrift. Wer ihre Geschichte kennt und sie vergleicht\, findet nicht die eine Wahrheit\, sondern die besseren Fragen – und Werkzeuge\, Politik und Alltag klüger zu gestalten.“Franz Koskarti\, Betriebsratsvorsitzender der Österreichischen Gesundheitskasse. \nMit Impulsvorträgen\, Quellenarbeit\, Debatten und praxisnahen Fallbeispielen entsteht ein intensives Lernerlebnis. Die Teilnehmenden erarbeiten klare Analyseinstrumente – von der Begriffslandkarte über einen Kriterienkatalog bis hin zu konkreten Argumentationsübungen –\, die sowohl für politische Praxis als auch für gesellschaftliche Diskussionen im Alltag nutzbar sind. \nDiese Veranstaltung ist Teil der Ausbildungsreihe „Ideologie im Gespräch – Werte. Weltbilder. Wirklichkeit.“. Die Reihe bietet eine fundierte ideologische Grundlagen- und Vertiefungsausbildung für politisch Interessierte und verbindet theoretische Einordnung mit aktuellen gesellschaftlichen Fragestellungen und politischer Praxis. \nAnmeldung per Mail an markytan@wiener-bildungsakademie.at
URL:https://wiener-bildungsakademie.wien/event/ideologien-im-vergleich-intensiv-workshop-mit-franz-koskarti/
LOCATION:Wiener Bildungszentrum\, Praterstraße 25a\, Wien\, 1020\, Österreich
ORGANIZER;CN="WBA":MAILTO:kontakt@wiener-bildungsakademie.at
END:VEVENT
END:VCALENDAR