BEGIN:VCALENDAR
VERSION:2.0
PRODID:-//Wiener Bildungsakademie - ECPv6.15.11//NONSGML v1.0//EN
CALSCALE:GREGORIAN
METHOD:PUBLISH
X-WR-CALNAME:Wiener Bildungsakademie
X-ORIGINAL-URL:https://wiener-bildungsakademie.wien
X-WR-CALDESC:Veranstaltungen für Wiener Bildungsakademie
REFRESH-INTERVAL;VALUE=DURATION:PT1H
X-Robots-Tag:noindex
X-PUBLISHED-TTL:PT1H
BEGIN:VTIMEZONE
TZID:Europe/Vienna
BEGIN:DAYLIGHT
TZOFFSETFROM:+0100
TZOFFSETTO:+0200
TZNAME:CEST
DTSTART:20250330T010000
END:DAYLIGHT
BEGIN:STANDARD
TZOFFSETFROM:+0200
TZOFFSETTO:+0100
TZNAME:CET
DTSTART:20251026T010000
END:STANDARD
BEGIN:DAYLIGHT
TZOFFSETFROM:+0100
TZOFFSETTO:+0200
TZNAME:CEST
DTSTART:20260329T010000
END:DAYLIGHT
BEGIN:STANDARD
TZOFFSETFROM:+0200
TZOFFSETTO:+0100
TZNAME:CET
DTSTART:20261025T010000
END:STANDARD
BEGIN:DAYLIGHT
TZOFFSETFROM:+0100
TZOFFSETTO:+0200
TZNAME:CEST
DTSTART:20270328T010000
END:DAYLIGHT
BEGIN:STANDARD
TZOFFSETFROM:+0200
TZOFFSETTO:+0100
TZNAME:CET
DTSTART:20271031T010000
END:STANDARD
END:VTIMEZONE
BEGIN:VEVENT
DTSTART;TZID=Europe/Vienna:20260407T180000
DTEND;TZID=Europe/Vienna:20260407T193000
DTSTAMP:20260419T173627
CREATED:20260204T134235Z
LAST-MODIFIED:20260324T104131Z
UID:13568-1775584800-1775590200@wiener-bildungsakademie.wien
SUMMARY:50 Jahre UN-Dekade der Frau
DESCRIPTION:  \nIm Verlauf der 1970er Jahre hat die internationale Frauenbewegung immer mehr an Bedeutung gewonnen. 1975 rief die Generalversammlung der Vereinten Nationen das „Internationale Jahr der Frau“ aus und organisierte in Mexiko-Stadt die erste UN-Weltfrauenkonferenz\, bei der die Themen Gleichberechtigung\, Entwicklung und Frieden diskutiert wurden. Erarbeitet wurde ein Welt-Aktionsplan mit dem Ziel\, die Stellung der Frauen zu verbessern. Die Generalversammlung hat diesen Plan aufgegriffen und in der Folge die Jahre 1976 bis 1985 zur „UN-Dekade der Frau“ erklärt. \nWir wollen nachfragen: Was waren die Ziele? Was wurde während der „UN-Dekade der Frau“ in Österreich umgesetzt? Und warum wird heute kein Jahr / keine Dekade der Frau mehr ausgerufen? Was wäre heute noch immer zu fordern? \nGespräch mit: \nMinisterialrätin i.R. Dr.in Elfriede Fritz (Juristin\, langjährige Vorsitzende der Arbeitsgruppe für Gleichbehandlungsfragen)\,\nDr.in Christine Stromberger (Psychologin\, langjährige Mitarbeiterin von Frauenministerin Johanna Dohnal) \nZeit & Ort: Wiener Bildungszentrum\, Wien 2\, Praterstraße 25A/Mezzanin/Tür 7\, 18:00 – 19:30 Uhr \nZielgruppe: Interessierte an feministischen Themen\nProjektleitung: Dr.in Karin Moser \nAnmeldung: moser@wiener-bildungsakademie.at
URL:https://wiener-bildungsakademie.wien/event/50-jahre-un-dekade-der-frau/
LOCATION:Wiener Bildungszentrum\, Praterstraße 25a\, Wien\, 1020\, Österreich
CATEGORIES:Frauenpolitik
ORGANIZER;CN="WBA":MAILTO:kontakt@wiener-bildungsakademie.at
END:VEVENT
END:VCALENDAR