BEGIN:VCALENDAR
VERSION:2.0
PRODID:-//Wiener Bildungsakademie - ECPv6.15.11//NONSGML v1.0//EN
CALSCALE:GREGORIAN
METHOD:PUBLISH
X-WR-CALNAME:Wiener Bildungsakademie
X-ORIGINAL-URL:https://wiener-bildungsakademie.wien
X-WR-CALDESC:Veranstaltungen für Wiener Bildungsakademie
REFRESH-INTERVAL;VALUE=DURATION:PT1H
X-Robots-Tag:noindex
X-PUBLISHED-TTL:PT1H
BEGIN:VTIMEZONE
TZID:Europe/Vienna
BEGIN:DAYLIGHT
TZOFFSETFROM:+0100
TZOFFSETTO:+0200
TZNAME:CEST
DTSTART:20250330T010000
END:DAYLIGHT
BEGIN:STANDARD
TZOFFSETFROM:+0200
TZOFFSETTO:+0100
TZNAME:CET
DTSTART:20251026T010000
END:STANDARD
BEGIN:DAYLIGHT
TZOFFSETFROM:+0100
TZOFFSETTO:+0200
TZNAME:CEST
DTSTART:20260329T010000
END:DAYLIGHT
BEGIN:STANDARD
TZOFFSETFROM:+0200
TZOFFSETTO:+0100
TZNAME:CET
DTSTART:20261025T010000
END:STANDARD
BEGIN:DAYLIGHT
TZOFFSETFROM:+0100
TZOFFSETTO:+0200
TZNAME:CEST
DTSTART:20270328T010000
END:DAYLIGHT
BEGIN:STANDARD
TZOFFSETFROM:+0200
TZOFFSETTO:+0100
TZNAME:CET
DTSTART:20271031T010000
END:STANDARD
END:VTIMEZONE
BEGIN:VEVENT
DTSTART;TZID=Europe/Vienna:20260421T180000
DTEND;TZID=Europe/Vienna:20260421T193000
DTSTAMP:20260419T144647
CREATED:20260204T135120Z
LAST-MODIFIED:20260416T140732Z
UID:13572-1776794400-1776799800@wiener-bildungsakademie.wien
SUMMARY:Schönheitsideale? Verzerrte Selbst- und Körperbilder
DESCRIPTION:Körpernormen und Schönheitsideale setzen Menschen jeden Alters unter Druck. „Selbstoptimierung“ wird propagiert\, wer der vermeintlichen Norm nicht entspricht\, ist oft mit Diskriminierung und stereotypen Zuschreibungen konfrontiert. Werbung bzw. Social Media arbeiten mittlerweile mit überzogenen und nicht realen KI-generierten Bildern. In den sozialen Medien werden bereits Kindern Kosmetikprodukte empfohlen. Filter werden angewendet\, um das eigene Gesicht zu „optimieren“. \nWie wirken sich diese präsentierten Normen und Ideale sowie die bereitgestellten Tools auf das Selbstbild aus? Wie können Medienkompetenz und Body-Positivity dabei helfen\, sich aktiv zu schützen und ein gutes Selbstwertgefühl zu entwickeln? \nGespräch mit: Mag.a Alexandra Münch-Beurle (Büro für Frauengesundheit und Gesundheitsziele\, Wiener Programm für Frauengesundheit\, MA 24)\, Dr.in Elisabeth Lechner (Kulturwissenschaftlerin\, Universität Wien)\, Mag.a Gerlinde Rohrauer-Näf\, MPH (Abteilungsleiterin des Kompetenzzentrums „Zukunft Gesundheitsförderung“ an der GÖG) \nZeit & Ort: Wiener Bildungszentrum\, Wien 2\, Praterstraße 25A/Mezzanin/Tür 7\, 18:00 – 19:30 Uhr \nZielgruppe: Interessierte an feministischen Themen\nProjektleitung: Dr.in Karin Moser \nAnmeldung: moser@wiener-bildungsakademie.at \n \n  \n 
URL:https://wiener-bildungsakademie.wien/event/schoenheitsideale-verzerrte-selbst-und-koerperbilder/
LOCATION:Wiener Bildungszentrum\, Praterstraße 25a\, Wien\, 1020\, Österreich
CATEGORIES:Frauenpolitik
ORGANIZER;CN="WBA":MAILTO:kontakt@wiener-bildungsakademie.at
END:VEVENT
END:VCALENDAR