BEGIN:VCALENDAR
VERSION:2.0
PRODID:-//Wiener Bildungsakademie - ECPv6.15.11//NONSGML v1.0//EN
CALSCALE:GREGORIAN
METHOD:PUBLISH
X-ORIGINAL-URL:https://wiener-bildungsakademie.wien
X-WR-CALDESC:Veranstaltungen für Wiener Bildungsakademie
REFRESH-INTERVAL;VALUE=DURATION:PT1H
X-Robots-Tag:noindex
X-PUBLISHED-TTL:PT1H
BEGIN:VTIMEZONE
TZID:Europe/Vienna
BEGIN:DAYLIGHT
TZOFFSETFROM:+0100
TZOFFSETTO:+0200
TZNAME:CEST
DTSTART:20250330T010000
END:DAYLIGHT
BEGIN:STANDARD
TZOFFSETFROM:+0200
TZOFFSETTO:+0100
TZNAME:CET
DTSTART:20251026T010000
END:STANDARD
BEGIN:DAYLIGHT
TZOFFSETFROM:+0100
TZOFFSETTO:+0200
TZNAME:CEST
DTSTART:20260329T010000
END:DAYLIGHT
BEGIN:STANDARD
TZOFFSETFROM:+0200
TZOFFSETTO:+0100
TZNAME:CET
DTSTART:20261025T010000
END:STANDARD
BEGIN:DAYLIGHT
TZOFFSETFROM:+0100
TZOFFSETTO:+0200
TZNAME:CEST
DTSTART:20270328T010000
END:DAYLIGHT
BEGIN:STANDARD
TZOFFSETFROM:+0200
TZOFFSETTO:+0100
TZNAME:CET
DTSTART:20271031T010000
END:STANDARD
END:VTIMEZONE
BEGIN:VEVENT
DTSTART;TZID=Europe/Vienna:20260427T180000
DTEND;TZID=Europe/Vienna:20260427T210000
DTSTAMP:20260419T173818
CREATED:20260113T131313Z
LAST-MODIFIED:20260113T132608Z
UID:13514-1777312800-1777323600@wiener-bildungsakademie.wien
SUMMARY:Inklusion und Barrierefreiheit an Hochschulen. Academic Ableism und der Weg zu einem inklusiven Hochschulzugang.
DESCRIPTION:Eine inklusive Gesellschaft zeigt sich nicht nur im öffentlichen Raum\, sondern auch in ihren Hörsälen. Der gleichberechtigte Zugang zu Bildung ist ein Menschenrecht – dennoch stoßen Studierende mit Behinderungen im Hochschulalltag auf zahlreiche Barrieren. Dazu zählen unzureichende Nachteilsausgleiche\, fehlende digitale Zugänge\, segregierende Raumstrukturen oder subtile Formen institutioneller Diskriminierung. \n„Inklusion geht uns alle an. Nur wenn alle Perspektiven gehört werden\, wird aus Chancengleichheit echte Teilhabe.“Sabine Weiß und Michaela Joch\, Vortragende. \nAn diesem Abend widmen wir uns der Frage\, wie Inklusion an Hochschulen gelingen kann – und wo Strukturen\, Haltungen und Rahmenbedingungen noch verändert werden müssen. Der thematische Schwerpunkt „Academic Ableism“ lenkt den Blick auf gesellschaftliche und institutionelle Ausschlüsse\, die auch in formal barrierefreien Kontexten fortbestehen. \nMichaela Joch eröffnet den Abend mit einem Input zu einem gemeinsamen Verständnis von Behinderung. Sie stellt unterschiedliche Perspektiven vor – das medizinische\, das soziale und das menschenrechtliche Modell – und erläutert\, was unter Ableismus zu verstehen ist. Dabei zeigt sie auf\, warum Nachteilsausgleiche oft nicht ausreichen und wie Barrieren selbst in vermeintlich barrierefreien Umgebungen bestehen bleiben\, etwa wenn Rollstuhlnutzer:innen isoliert sitzen müssen oder Online-Teilnahme nicht möglich ist. \nIm Anschluss präsentiert Sabine Weiß ein aktuelles Forschungsprojekt zum Thema Hochschulen und Behinderung. Sie gibt Einblicke in Erfahrungen von Studierenden\, die von Exklusion oder gelungener Inklusion berichten\, und lädt zur gemeinsamen Reflexion über institutionelle Strukturen\, Chancen und Herausforderungen inklusiver Hochschulbildung ein. \nDer Ort der Veranstaltung wird noch bekannt gegeben. \nAnmeldung per Mail an markytan@wiener-bildungsakademie.at
URL:https://wiener-bildungsakademie.wien/event/inklusion-und-barrierefreiheit-an-hochschulen-academic-ableism-und-der-weg-zu-einem-inklusiven-hochschulzugang-2/
LOCATION:noch offen
CATEGORIES:Stadt.Leben.Politik – Die Wiener Perspektiven
ORGANIZER;CN="WBA":MAILTO:kontakt@wiener-bildungsakademie.at
END:VEVENT
BEGIN:VEVENT
DTSTART;TZID=Europe/Vienna:20260427T180000
DTEND;TZID=Europe/Vienna:20260427T210000
DTSTAMP:20260419T173818
CREATED:20260113T132004Z
LAST-MODIFIED:20260113T132004Z
UID:13517-1777312800-1777323600@wiener-bildungsakademie.wien
SUMMARY:Inklusion und Barrierefreiheit in Wien. Selbstbestimmt leben in der Stadt – von Mobilität bis digitaler Teilhabe\, mit Gemeinderätin Stefanie Vasold.
DESCRIPTION:Inklusion und Barrierefreiheit in Wien. Selbstbestimmt leben in der Stadt – von Mobilität bis digitaler Teilhabe\, mit Gemeinderätin Stefanie Vasold. \nEine Stadt ist erst dann wirklich lebenswert\, wenn alle Menschen selbstbestimmt an ihr teilhaben können. An diesem Abend stehen Inklusion und Barrierefreiheit im Alltag im Mittelpunkt: barrierefreier Wohnraum und öffentlicher Raum\, Mobilität\, Zugang zu Kultur und Bildung\, digitale Barrierefreiheit sowie echte Partizipation – also Mitgestaltung statt bloßer „Mitnahme“. \n„Inklusion ist kein Nice-to-have\, sondern Voraussetzung dafür\, dass Wien für alle lebenswert bleibt. Unser Ziel ist eine noch inklusivere Stadt\, in der jede*r gleichberechtigt am städtischen Leben teilhaben kann. Die neue Periode der Kommission ist ein klares Signal: Wien lässt niemanden zurück – wir leben Inklusion.“\nStefanie Vasold\, Gemeinderätin und Leiterin der Kommission für Inklusion und Barrierefreiheit. \nGemeinsam diskutieren wir\, welche nächsten Schritte sinnvoll sind – von barrierefreier Mobilität und leistbarem Wohnen über Servicequalität in Verwaltung und Gesundheit bis hin zu inklusiven Freizeit- und Kulturangeboten. Ein besonderer Fokus liegt auf der Zusammenarbeit von Stadt\, Zivilgesellschaft und Selbstvertretungen: nicht über\, sondern mit Betroffenen entscheiden. \nAls Referentin begrüßen wir Gemeinderätin Mag.a Stefanie Vasold. Sie leitet die Kommission für Inklusion und Barrierefreiheit\, die die Lebenslagen von Menschen mit Behinderungen erhebt\, Maßnahmen berät und Vorschläge an die zuständigen Organe richtet. So werden Anliegen systematisch und fraktionsübergreifend in die Stadtpolitik eingebracht. \nWir sprechen darüber\, was in Wien bereits umgesetzt wird\, wo weiterhin Hürden bestehen und wie Inklusion als Querschnittsaufgabe konsequent weiterentwickelt werden kann. \nAnmeldung per Mail an markytan@wiener-bildungsakademie.at
URL:https://wiener-bildungsakademie.wien/event/inklusion-und-barrierefreiheit-in-wien-selbstbestimmt-leben-in-der-stadt-von-mobilitaet-bis-digitaler-teilhabe-mit-gemeinderaetin-stefanie-vasold/
LOCATION:noch offen
CATEGORIES:Stadt.Leben.Politik – Die Wiener Perspektiven
ORGANIZER;CN="WBA":MAILTO:kontakt@wiener-bildungsakademie.at
END:VEVENT
END:VCALENDAR