BEGIN:VCALENDAR
VERSION:2.0
PRODID:-//Wiener Bildungsakademie - ECPv6.15.11//NONSGML v1.0//EN
CALSCALE:GREGORIAN
METHOD:PUBLISH
X-WR-CALNAME:Wiener Bildungsakademie
X-ORIGINAL-URL:https://wiener-bildungsakademie.wien
X-WR-CALDESC:Veranstaltungen für Wiener Bildungsakademie
REFRESH-INTERVAL;VALUE=DURATION:PT1H
X-Robots-Tag:noindex
X-PUBLISHED-TTL:PT1H
BEGIN:VTIMEZONE
TZID:Europe/Vienna
BEGIN:DAYLIGHT
TZOFFSETFROM:+0100
TZOFFSETTO:+0200
TZNAME:CEST
DTSTART:20250330T010000
END:DAYLIGHT
BEGIN:STANDARD
TZOFFSETFROM:+0200
TZOFFSETTO:+0100
TZNAME:CET
DTSTART:20251026T010000
END:STANDARD
BEGIN:DAYLIGHT
TZOFFSETFROM:+0100
TZOFFSETTO:+0200
TZNAME:CEST
DTSTART:20260329T010000
END:DAYLIGHT
BEGIN:STANDARD
TZOFFSETFROM:+0200
TZOFFSETTO:+0100
TZNAME:CET
DTSTART:20261025T010000
END:STANDARD
BEGIN:DAYLIGHT
TZOFFSETFROM:+0100
TZOFFSETTO:+0200
TZNAME:CEST
DTSTART:20270328T010000
END:DAYLIGHT
BEGIN:STANDARD
TZOFFSETFROM:+0200
TZOFFSETTO:+0100
TZNAME:CET
DTSTART:20271031T010000
END:STANDARD
END:VTIMEZONE
BEGIN:VEVENT
DTSTART;TZID=Europe/Vienna:20260526T180000
DTEND;TZID=Europe/Vienna:20260526T193000
DTSTAMP:20260419T191616
CREATED:20260204T140834Z
LAST-MODIFIED:20260204T140834Z
UID:13575-1779818400-1779823800@wiener-bildungsakademie.wien
SUMMARY:Feministische Gegenwarts- und Generationengespräche
DESCRIPTION:In einem neuen Gesprächsformat wollen wir feministische Themen aufgreifen und uns über vergangene\, aktuelle und zukünftige Aspekte austauschen. Dabei sollen Frauen unterschiedlicher Generationen aufeinandertreffen und ihre Standpunkte diskutieren. Wir erwarten uns spannende\, konstruktive und fruchtbare Gespräche! \nLAbg. GRin Marina Hanke\, BA (Vorsitzende der Wiener SPÖ Frauen) im Gespräch mit Staatssekretärin a.D.\, NRin a. D.\, Aufsichtsratspräsidentin Mag.a Brigitte Ederer \nZeit & Ort: Wiener Bildungszentrum\, Wien 2\, Praterstraße 25A/Mezzanin/Tür 7\, 18:00 – 19:30 Uhr \nZielgruppe: Interessierte an feministischen Themen\nProjektleitung: Dr.in Karin Moser \nAnmeldung: moser@wiener-bildungsakademie.at
URL:https://wiener-bildungsakademie.wien/event/feministische-gegenwarts-und-generationengespraeche/
LOCATION:Wiener Bildungszentrum\, Praterstraße 25a\, Wien\, 1020\, Österreich
ORGANIZER;CN="WBA":MAILTO:kontakt@wiener-bildungsakademie.at
END:VEVENT
BEGIN:VEVENT
DTSTART;TZID=Europe/Vienna:20260526T180000
DTEND;TZID=Europe/Vienna:20260526T193000
DTSTAMP:20260419T191616
CREATED:20260204T142221Z
LAST-MODIFIED:20260204T144404Z
UID:13578-1779818400-1779823800@wiener-bildungsakademie.wien
SUMMARY:Feministische Gegenwarts- und Generationengespräche
DESCRIPTION:In einem neuen Gesprächsformat wollen wir feministische Themen aufgreifen und uns über vergangene\, aktuelle und zukünftige Aspekte austauschen. Dabei sollen Frauen unterschiedlicher Generationen aufeinandertreffen und ihre Standpunkte diskutieren. Wir erwarten uns spannende\, konstruktive und fruchtbare Gespräche! \nLAbg. GRin Marina Hanke\, BA (Vorsitzende der Wiener SPÖ Frauen) im Gespräch mit Staatssekretärin a.D.\, NRin a. D.\, Aufsichtsratspräsidentin Mag.a Brigitte Ederer \nZeit & Ort: Wiener Bildungszentrum\, Wien 2\, Praterstraße 25A/Mezzanin/Tür 7\, 18:00 – 19:30 Uhr \nZielgruppe: Interessierte an feministischen Themen\nProjektleitung: Dr.in Karin Moser \nAnmeldung: moser@wiener-bildungsakademie.at
URL:https://wiener-bildungsakademie.wien/event/feministische-gegenwarts-und-generationengespraeche-2/
LOCATION:Wiener Bildungszentrum\, Praterstraße 25a\, Wien\, 1020\, Österreich
CATEGORIES:Feministische Veranstaltungen
ORGANIZER;CN="WBA":MAILTO:kontakt@wiener-bildungsakademie.at
END:VEVENT
END:VCALENDAR