BEGIN:VCALENDAR
VERSION:2.0
PRODID:-//Wiener Bildungsakademie - ECPv6.15.11//NONSGML v1.0//EN
CALSCALE:GREGORIAN
METHOD:PUBLISH
X-ORIGINAL-URL:https://wiener-bildungsakademie.wien
X-WR-CALDESC:Veranstaltungen für Wiener Bildungsakademie
REFRESH-INTERVAL;VALUE=DURATION:PT1H
X-Robots-Tag:noindex
X-PUBLISHED-TTL:PT1H
BEGIN:VTIMEZONE
TZID:Europe/Vienna
BEGIN:DAYLIGHT
TZOFFSETFROM:+0100
TZOFFSETTO:+0200
TZNAME:CEST
DTSTART:20250330T010000
END:DAYLIGHT
BEGIN:STANDARD
TZOFFSETFROM:+0200
TZOFFSETTO:+0100
TZNAME:CET
DTSTART:20251026T010000
END:STANDARD
BEGIN:DAYLIGHT
TZOFFSETFROM:+0100
TZOFFSETTO:+0200
TZNAME:CEST
DTSTART:20260329T010000
END:DAYLIGHT
BEGIN:STANDARD
TZOFFSETFROM:+0200
TZOFFSETTO:+0100
TZNAME:CET
DTSTART:20261025T010000
END:STANDARD
BEGIN:DAYLIGHT
TZOFFSETFROM:+0100
TZOFFSETTO:+0200
TZNAME:CEST
DTSTART:20270328T010000
END:DAYLIGHT
BEGIN:STANDARD
TZOFFSETFROM:+0200
TZOFFSETTO:+0100
TZNAME:CET
DTSTART:20271031T010000
END:STANDARD
END:VTIMEZONE
BEGIN:VEVENT
DTSTART;TZID=Europe/Vienna:20260601T180000
DTEND;TZID=Europe/Vienna:20260601T210000
DTSTAMP:20260419T203840
CREATED:20260113T134901Z
LAST-MODIFIED:20260113T134901Z
UID:13521-1780336800-1780347600@wiener-bildungsakademie.wien
SUMMARY:Für ein cooles Wien der Zukunft – Stadtklima zum Durchatmen. Aktuelles aus der Klima- und Umweltpolitik der Stadt Wien\, mit Gemeinderätin Nina Abrahamczik.
DESCRIPTION:Für ein cooles Wien der Zukunft – Stadtklima zum Durchatmen. Aktuelles aus der Klima- und Umweltpolitik der Stadt Wien\, mit Gemeinderätin Nina Abrahamczik. \nWenn die Sommer heißer werden\, braucht es kühle Orte zum Durchatmen – für alle\, unabhängig von Einkommen\, Alter oder Wohnlage. Wien reagiert auf die Herausforderungen der Klimakrise mit innovativen Konzepten wie den „Coolen Zonen“. Diese Orte bieten Schatten\, Trinkwasser\, Begrünung und Raum für Begegnung – kurz: mehr Lebensqualität auch an heißen Tagen. \nIm Mittelpunkt des Abends steht die Frage\, wie sich Wien auf zunehmende Hitze vorbereitet. Diskutiert werden Maßnahmen wie begrünte Straßenräume\, kühlende Parks\, Wasserspiele und Nebelduschen sowie klimafitte Plätze in dicht verbauten Bezirken. Dabei geht es auch um das Zusammenspiel von Klimaanpassung\, Umweltpolitik und sozialer Gerechtigkeit: Wie stellen wir sicher\, dass diese Maßnahmen alle erreichen – insbesondere vulnerable Gruppen wie ältere Menschen\, Kinder und Personen mit eingeschränkter Mobilität? \nAls Referentin begrüßen wir Gemeinderätin Mag.a Nina Abrahamczik\, Vorsitzende des Gemeinderatsausschusses für Klima\, Umwelt\, Demokratie und Personal. Sie engagiert sich für eine ökologische\, soziale und gerechte Weiterentwicklung der Stadt Wien und gibt Einblicke in aktuelle Projekte\, politische Prioritäten und nächste Schritte der Wiener Klima- und Umweltpolitik. \n„Klimaschutz bedeutet auch soziale Verantwortung. Jede und jeder soll in Wien einen Ort finden\, an dem man auch an heißen Tagen gerne ist – ob im Schatten\, am Wasser oder im Grünen.“\nNina Abrahamczik\, Vorsitzende des Gemeinderatsausschusses für Klima\, Umwelt\, Demokratie und Personal. \nDer Abend zeigt\, welche Maßnahmen bereits umgesetzt wurden\, wo noch Handlungsbedarf besteht und welche Vision Wien für die „coole Stadt der Zukunft“ verfolgt – von der Begrünungsoffensive über die Initiative „Coole Straßen“ bis hin zu langfristigen Strategien der Klimaanpassung. \nAnmeldung per Mail an markytan@wiener-bildungsakademie.at
URL:https://wiener-bildungsakademie.wien/event/fuer-ein-cooles-wien-der-zukunft-stadtklima-zum-durchatmen-aktuelles-aus-der-klima-und-umweltpolitik-der-stadt-wien-mit-gemeinderaetin-nina-abrahamczik/
LOCATION:Wiener Bildungszentrum\, Praterstraße 25a\, Wien\, 1020\, Österreich
CATEGORIES:Stadt.Leben.Politik – Die Wiener Perspektiven
ORGANIZER;CN="WBA":MAILTO:kontakt@wiener-bildungsakademie.at
END:VEVENT
END:VCALENDAR