BEGIN:VCALENDAR
VERSION:2.0
PRODID:-//Wiener Bildungsakademie - ECPv6.15.11//NONSGML v1.0//EN
CALSCALE:GREGORIAN
METHOD:PUBLISH
X-ORIGINAL-URL:https://wiener-bildungsakademie.wien
X-WR-CALDESC:Veranstaltungen für Wiener Bildungsakademie
REFRESH-INTERVAL;VALUE=DURATION:PT1H
X-Robots-Tag:noindex
X-PUBLISHED-TTL:PT1H
BEGIN:VTIMEZONE
TZID:Europe/Vienna
BEGIN:DAYLIGHT
TZOFFSETFROM:+0100
TZOFFSETTO:+0200
TZNAME:CEST
DTSTART:20250330T010000
END:DAYLIGHT
BEGIN:STANDARD
TZOFFSETFROM:+0200
TZOFFSETTO:+0100
TZNAME:CET
DTSTART:20251026T010000
END:STANDARD
BEGIN:DAYLIGHT
TZOFFSETFROM:+0100
TZOFFSETTO:+0200
TZNAME:CEST
DTSTART:20260329T010000
END:DAYLIGHT
BEGIN:STANDARD
TZOFFSETFROM:+0200
TZOFFSETTO:+0100
TZNAME:CET
DTSTART:20261025T010000
END:STANDARD
BEGIN:DAYLIGHT
TZOFFSETFROM:+0100
TZOFFSETTO:+0200
TZNAME:CEST
DTSTART:20270328T010000
END:DAYLIGHT
BEGIN:STANDARD
TZOFFSETFROM:+0200
TZOFFSETTO:+0100
TZNAME:CET
DTSTART:20271031T010000
END:STANDARD
END:VTIMEZONE
BEGIN:VEVENT
DTSTART;TZID=Europe/Vienna:20260608T180000
DTEND;TZID=Europe/Vienna:20260608T210000
DTSTAMP:20260419T203840
CREATED:20260113T135426Z
LAST-MODIFIED:20260113T135426Z
UID:13523-1780941600-1780952400@wiener-bildungsakademie.wien
SUMMARY:Wiener Kindergärten und die Wiener Kinder- und Jugendhilfe. Betreuung sichern\, Qualität entwickeln\, Kinderschutz stärken\, mit Gemeinderat Marcus Gremel.
DESCRIPTION:Wie stellt Wien sein Elementar- und Kinderschutzsystem so auf\, dass Betreuung wohnortnah\, leistbar und qualitativ hochwertig bleibt – und Kinder zugleich bestmöglich geschützt sind? Der Abend widmet sich dem Zusammenspiel der Wiener Kindergärten (MA 10) und der Wiener Kinder- und Jugendhilfe (MA 11): vom Platzausbau und längeren Öffnungszeiten über Personaloffensiven und Qualifikationswege bis hin zu Schutzkonzepten\, frühen Hilfen und klaren Melde- und Interventionsstrukturen. \nIm Zentrum stehen die Schnittstellen zwischen Pädagogik und Kinderschutz. Diskutiert wird\, wo welche Leistungen sinnvoll angesiedelt sind\, wie Übergänge organisiert werden – vom Kleinkindalter über den Kindergarten bis zur Schule – und wie Sprachförderung\, Inklusion und Elternarbeit nachhaltig verankert werden können. Ein besonderer Fokus liegt auf interdisziplinären Teams und der Frage\, wie bei Verdachtsfällen rasch\, professionell und abgestimmt gehandelt werden kann. Ziel ist es\, Qualität\, Erreichbarkeit und Sicherheit in allen Wiener Bezirken gemeinsam zu denken. \nAls Referent führt Gemeinderat Mag. Marcus Gremel durch den Abend. Aus seiner politischen Verantwortung ordnet er aktuelle Maßnahmen\, Prioritäten und nächste Schritte für Wien ein – von Personalausbau und Ausbildungspartnerschaften über Investitionen in Raumqualität und Freiflächen bis hin zu Kinderschutzstandards\, Evaluierung und Finanzierung im Zusammenspiel der städtischen Träger. \nEin weiterer Schwerpunkt liegt auf Governance und Verbindlichkeit: Wie greifen städtische Standards und gesetzliche Vorgaben ineinander? Welche Regelungen sind rechtlich verbindlich\, wie werden sie umgesetzt\, überprüft und transparent gemacht? Vorgestellt werden die Planungslogik\, Beteiligungswege von Eltern\, Trägern und Bezirken sowie der rechtliche Rahmen des Wiener Systems. \n„Jedes Kind hat Anspruch auf beste Bildung und verlässlichen Schutz – unabhängig von Bezirk\, Einkommen oder Herkunft. Darum bauen wir Plätze aus\, stärken das Personal\, schaffen gute Räume und klare Kinderschutzwege. Qualität im Kindergarten ist die beste Sozial- und Zukunftspolitik.“\nMarcus Gremel\, Gemeinderat der Stadt Wien. \nAnmeldung per Mail an markytan@wiener-bildungsakademie.at
URL:https://wiener-bildungsakademie.wien/event/wiener-kindergaerten-und-die-wiener-kinder-und-jugendhilfe-betreuung-sichern-qualitaet-entwickeln-kinderschutz-staerken-mit-gemeinderat-marcus-gremel/
LOCATION:Wiener Bildungszentrum\, Praterstraße 25a\, Wien\, 1020\, Österreich
CATEGORIES:Stadt.Leben.Politik – Die Wiener Perspektiven
ORGANIZER;CN="WBA":MAILTO:kontakt@wiener-bildungsakademie.at
END:VEVENT
END:VCALENDAR