BEGIN:VCALENDAR
VERSION:2.0
PRODID:-//Wiener Bildungsakademie - ECPv6.15.11//NONSGML v1.0//EN
CALSCALE:GREGORIAN
METHOD:PUBLISH
X-WR-CALNAME:Wiener Bildungsakademie
X-ORIGINAL-URL:https://wiener-bildungsakademie.wien
X-WR-CALDESC:Veranstaltungen für Wiener Bildungsakademie
REFRESH-INTERVAL;VALUE=DURATION:PT1H
X-Robots-Tag:noindex
X-PUBLISHED-TTL:PT1H
BEGIN:VTIMEZONE
TZID:Europe/Vienna
BEGIN:DAYLIGHT
TZOFFSETFROM:+0100
TZOFFSETTO:+0200
TZNAME:CEST
DTSTART:20250330T010000
END:DAYLIGHT
BEGIN:STANDARD
TZOFFSETFROM:+0200
TZOFFSETTO:+0100
TZNAME:CET
DTSTART:20251026T010000
END:STANDARD
BEGIN:DAYLIGHT
TZOFFSETFROM:+0100
TZOFFSETTO:+0200
TZNAME:CEST
DTSTART:20260329T010000
END:DAYLIGHT
BEGIN:STANDARD
TZOFFSETFROM:+0200
TZOFFSETTO:+0100
TZNAME:CET
DTSTART:20261025T010000
END:STANDARD
BEGIN:DAYLIGHT
TZOFFSETFROM:+0100
TZOFFSETTO:+0200
TZNAME:CEST
DTSTART:20270328T010000
END:DAYLIGHT
BEGIN:STANDARD
TZOFFSETFROM:+0200
TZOFFSETTO:+0100
TZNAME:CET
DTSTART:20271031T010000
END:STANDARD
END:VTIMEZONE
BEGIN:VEVENT
DTSTART;TZID=Europe/Vienna:20260107T190000
DTEND;TZID=Europe/Vienna:20260107T210000
DTSTAMP:20260419T205348
CREATED:20251218T101500Z
LAST-MODIFIED:20251218T101500Z
UID:13463-1767812400-1767819600@wiener-bildungsakademie.wien
SUMMARY:Neujahrsauftakt der Wiener Bildungsakademie
DESCRIPTION:Für das Frühjahr 2026 haben wir ein vielseitiges und umfangreiches Ausbildungsprogramm zusammengestellt\, mit zahlreichen Formaten\, Themen und Angeboten für unterschiedliche Interessen und Vorkenntnisse. In den nächsten Tagen oder Wochen erhältst du das Programm auch postalisch\, online ist es bereits abrufbar\, damit du dich schon jetzt informieren und passende Termine auswählen kannst.\n \nWir laden dich herzlich zur offiziellen Präsentation des Ausbildungsprogramms ein\, die am Mittwoch\, 7. Jänner 2026\, um 19:00 Uhr im Wiener Bildungszentrum\, Wien 2\, Praterstraße 25A\, Mezzanin\, Tür 7\, U1 Station Nestroyplatz\, in Zusammenarbeit mit dem Karl Renner Institut stattfindet. Dieser Abend soll auch ein gemütliches Zusammenkommen sein\, zum Wiedersehen\, Kennenlernen und Austauschen\, und zugleich ein gemeinsamer Auftakt in ein politisch wichtiges Jahr\, in dem Weichenstellungen anstehen.\n \nGerade weil in nächster Zeit keine Wahlen bevorstehen\, wollen wir den Fokus bewusst auf Inhalte legen\, auf politische Arbeit\, Weiterbildung und die Verbesserung der eigenen Skills. An diesem Abend geben wir einen Überblick über die Schwerpunkte des Frühjahrsprogramms\, die Vortragenden stellen ihre jeweiligen Programmpunkte vor\, und du hast die Möglichkeit\, Fragen zu stellen\, mit uns ins Gespräch zu kommen und dich direkt anzumelden. Wir freuen uns\, wenn du dabei bist.
URL:https://wiener-bildungsakademie.wien/event/neujahrsauftakt-der-wiener-bildungsakademie/
LOCATION:Wiener Bildungszentrum\, Praterstraße 25a\, Wien\, 1020\, Österreich
ORGANIZER;CN="WBA":MAILTO:kontakt@wiener-bildungsakademie.at
END:VEVENT
BEGIN:VEVENT
DTSTART;TZID=Europe/Vienna:20260116T150000
DTEND;TZID=Europe/Vienna:20260116T183000
DTSTAMP:20260419T205348
CREATED:20260109T144237Z
LAST-MODIFIED:20260109T144948Z
UID:13485-1768575600-1768588200@wiener-bildungsakademie.wien
SUMMARY:30. Josef-Hindels-Symposium 2026 110 Jahre Josef Hindels – Erinnerung und Auftrag
DESCRIPTION:Der Widerstandskämpfer\, Gewerkschafter und Bildungsfunktionär Josef Hindels war nach 1945 über Jahrzehnte hinweg eine zentrale kämpferische und mahnende Stimme in der SPÖ. Als politischer Mentor\, Lehrer und Publizist setzte er sich zeitlebens dafür ein\, insbesondere junge Menschen für faschistische Tendenzen zu sensibilisieren. Früh klärte er über Antisemitismus\, Nationalsozialismus und Neo-Faschismus auf – auch zu Zeiten\, in denen der sogenannte „Opferstatus Österreichs“ noch offiziell vertreten wurde. \nAm 10. Jänner 2026 wäre Josef Hindels 110 Jahre alt geworden. Aus diesem Anlass widmet sich das 30. Josef-Hindels-Symposium ausführlich seinem Leben und Wirken. Zugleich knüpft die Veranstaltung – ganz in seiner Tradition – an aktuelle politische Entwicklungen an: Vor dem Hintergrund des europaweiten und internationalen Erstarkens rechtspopulistischer und rechtsextremer Bewegungen diskutieren wir\, warum auch viele Arbeitnehmer:innen zunehmend rechts wählen. \nProgrammausblick \nPräsentation einer VGA-Broschüre zu Leben und Wirken von Josef Hindels \nPersönliche Stimmen der Erinnerung \nWissenschaftliche Keynotes: \nWas ist dran am Rechtsruck unter Arbeitnehmer:innen?Annäherungen aus Sicht der empirischen Sozialforschung \nWählen gegen die eigenen Interessen?Erklärungen für den Erfolg der Rechten bei Arbeitnehmer:innen \nPolitisches Podiumsgespräch:Warum wählen so viele Arbeitnehmer:innen rechts? \nMitwirkende (u. a.)Eva Zeglovits (Geschäftsführerin IFES)Jörg Flecker (Universität Wien)Wolfgang Greif (Gewerkschaft GPA)Sabine Schatz (NR-Abgeordnete der SPÖ)Robert Misik (Journalist und Publizist)Karin Moser (Zeithistorikerin\, WBA-Vizedirektorin)Gerhard Schmid (Dritter Landtagspräsident\, Bundesbildungsvorsitzender der SPÖ)Petra Bayr (NR-Abgeordnete\, Präsidentin der WBA) \nZielgruppeDie Veranstaltung richtet sich an alle historisch und politisch Interessierten\, die antidemokratische und rechte Tendenzen in Österreich und international nicht gleichgültig lassen. \nTermin📅 Freitag\, 16. Jänner 2026🕒 15.00–18.30 Uhr \nOrt📍 Wiener Bildungszentrum1020 Wien\, Praterstraße 25a/Tür 7U1 Nestroyplatz \nANMELDUNG unter markytan@wiener-bildungsakademie.at
URL:https://wiener-bildungsakademie.wien/event/30-josef-hindels-symposium-2026-110-jahre-josef-hindels-erinnerung-und-auftrag/
LOCATION:Wiener Bildungszentrum\, Praterstraße 25a\, Wien\, 1020\, Österreich
CATEGORIES:Ausbildungsprogramm 2026 - Frühjahr,Gedenkkultur
ATTACH;FMTTYPE=image/png:https://wiener-bildungsakademie.wien/wp-content/uploads/2026/01/Kopie-von-Unbenannt-11.png
ORGANIZER;CN="WBA":MAILTO:kontakt@wiener-bildungsakademie.at
END:VEVENT
BEGIN:VEVENT
DTSTART;TZID=Europe/Vienna:20260117T090000
DTEND;TZID=Europe/Vienna:20260117T170000
DTSTAMP:20260419T205348
CREATED:20260116T102947Z
LAST-MODIFIED:20260116T102947Z
UID:13525-1768640400-1768669200@wiener-bildungsakademie.wien
SUMMARY:Ideologien im Vergleich – Intensiv-Workshop mit Franz Koskarti
DESCRIPTION:Wie entstehen Ideologien\, wie wandeln sie sich – und wie prägen sie Politik und Alltag? In diesem kompakt angelegten Workshop folgen wir der Ideengeschichte von der Antike bis in die Gegenwart und vergleichen zentrale Strömungen wie Liberalismus\, Sozialismus\, Konservatismus\, Feminismus und Ökologie. Ziel ist es\, Gemeinsamkeiten und Unterschiede sichtbar zu machen und Ideologien nicht als starre Glaubenssysteme\, sondern als historisch gewachsene Deutungsangebote zu verstehen. \n„Ideologien sind Landkarten\, keine Schicksalsschrift. Wer ihre Geschichte kennt und sie vergleicht\, findet nicht die eine Wahrheit\, sondern die besseren Fragen – und Werkzeuge\, Politik und Alltag klüger zu gestalten.“Franz Koskarti\, Betriebsratsvorsitzender der Österreichischen Gesundheitskasse. \nMit Impulsvorträgen\, Quellenarbeit\, Debatten und praxisnahen Fallbeispielen entsteht ein intensives Lernerlebnis. Die Teilnehmenden erarbeiten klare Analyseinstrumente – von der Begriffslandkarte über einen Kriterienkatalog bis hin zu konkreten Argumentationsübungen –\, die sowohl für politische Praxis als auch für gesellschaftliche Diskussionen im Alltag nutzbar sind. \nDiese Veranstaltung ist Teil der Ausbildungsreihe „Ideologie im Gespräch – Werte. Weltbilder. Wirklichkeit.“. Die Reihe bietet eine fundierte ideologische Grundlagen- und Vertiefungsausbildung für politisch Interessierte und verbindet theoretische Einordnung mit aktuellen gesellschaftlichen Fragestellungen und politischer Praxis. \nAnmeldung per Mail an markytan@wiener-bildungsakademie.at
URL:https://wiener-bildungsakademie.wien/event/ideologien-im-vergleich-intensiv-workshop-mit-franz-koskarti/
LOCATION:Wiener Bildungszentrum\, Praterstraße 25a\, Wien\, 1020\, Österreich
ORGANIZER;CN="WBA":MAILTO:kontakt@wiener-bildungsakademie.at
END:VEVENT
BEGIN:VEVENT
DTSTART;TZID=Europe/Vienna:20260120T173000
DTEND;TZID=Europe/Vienna:20260120T203000
DTSTAMP:20260419T205348
CREATED:20260109T150009Z
LAST-MODIFIED:20260109T150249Z
UID:13490-1768930200-1768941000@wiener-bildungsakademie.wien
SUMMARY:ARTIST TALK: DO YOU RELATE?
DESCRIPTION:Eine Begegnung in Bewegung – Kunst\, Wasser & Resonanz \nMit dem Künstler:innen-Duo Adrian Dorfmeister-Pölzer und Simeon Ohlsen lädt die Wiener Bildungsakademie zu einem inspirierenden Abend ein\, der neue Perspektiven auf Ökologie\, Körperlichkeit und Beziehung eröffnet. \nIm gemeinsamen Gespräch geben die beiden Künstler Einblicke in ihre Arbeitsprozesse und die Entstehung ihrer Tanz-Performance „Do you relate?“. Zusammen mit der Vizedirektorin der Wiener Bildungsakademie Dr.in Karin Moser gehen sie der Frage nach\, wie Kunst unsere Wahrnehmung von Umwelt\, Emotion und Miteinander schärfen kann. \nÜber die Performance „Do you relate?“Wie begegnen wir Wasser – als Ressource\, als Spiegel\, als Organismus?Was wäre\, wenn Wasser eine eigene Stimme hätte – würden wir ihr zuhören?Welche Erinnerungen und unsichtbaren Geschichten trägt es in sich? \n„Do you relate?“ ist eine Tanz-Performance\, die den Fokus von Besitz auf Beziehung verschiebt. Sie sucht nicht nach fertigen Antworten\, sondern nach Resonanz. In einem bewegten Dialog mit dem Element Wasser erforschen die Künstler Fluidität\, Widerstand und Verbundenheit und laden das Publikum ein\, Wasser als lebendige Präsenz zu erfahren. \nEntstanden ist das Stück im Rahmen des europäischen Kulturprojekts Turning the Tide\, das sich mit Klimawandel\, Wasser und nachhaltiger Stadtentwicklung beschäftigt. Durch das Tanzen in und um Wasser öffnet sich ein Raum des Nachdenkens und Spürens:Wie antworten wir auf die Stimmen der Natur?Wie verkörpern wir Fürsorge in Zeiten ökologischer Krisen? \nDer Abend richtet sich an alle\, die sich für zeitgenössische Performance\, ökologische Fragestellungen\, künstlerische Forschung sowie für neue Denkansätze an der Schnittstelle von Bildung und Kunst interessieren. \n📅 Termin: Dienstag\, 20. Jänner 2026\, 17:30 Uhr📍 Ort: Wiener Bildungszentrum\, Wien 2\, Praterstraße 25a / Tür 7(U1-Station Nestroyplatz) \n📩 Information & Anmeldung: herger@wiener-bildungsakademie.at \nGefördert durch die Europäische Union. Die geäußerten Ansichten spiegeln ausschließlich jene der Autor:innen wider und nicht notwendigerweise die Position der EU oder der EACEA.
URL:https://wiener-bildungsakademie.wien/event/artist-talk-do-you-relate/
LOCATION:Wiener Bildungszentrum\, Praterstraße 25a\, Wien\, 1020\, Österreich
ATTACH;FMTTYPE=image/png:https://wiener-bildungsakademie.wien/wp-content/uploads/2026/01/Kopie-von-Unbenannt-10.png
ORGANIZER;CN="WBA":MAILTO:kontakt@wiener-bildungsakademie.at
END:VEVENT
BEGIN:VEVENT
DTSTART;TZID=Europe/Vienna:20260120T180000
DTEND;TZID=Europe/Vienna:20260120T210000
DTSTAMP:20260419T205348
CREATED:20251218T104516Z
LAST-MODIFIED:20251218T104516Z
UID:13475-1768932000-1768942800@wiener-bildungsakademie.wien
SUMMARY:Wie entwickelt sich das Wiener Bildungssystem im 21. Jahrhundert? Bildung in Wien. Perspektiven und Herausforderungen mit der Wiener Bildungsdirektorin Elisabeth Fuchs
DESCRIPTION:Wie entwickelt sich das Wiener Bildungssystem im 21. Jahrhundert? Bildung in Wien: Perspektiven und Herausforderungen mit der Wiener Bildungsdirektorin Elisabeth Fuchs. \nBildung ist der Schlüssel für gesellschaftliche Teilhabe\, Chancengerechtigkeit und eine erfolgreiche Zukunft der Stadt. Wien steht dabei vor besonderen Aufgaben: eine wachsende Bevölkerung\, zunehmende Vielfalt\, neue pädagogische Konzepte und der Anspruch\, allen Kindern und Jugendlichen die besten Voraussetzungen zu bieten. \nAls Referentin begrüßen wir Hofrätin Elisabeth Fuchs\, M.Ed.\, Bildungsdirektorin für Wien. Sie leitet seit 2023 die Bildungsdirektion und bringt langjährige Erfahrung in Pädagogik\, Verwaltung und Schulentwicklung mit. In ihrem Vortrag gibt sie Einblicke in aktuelle Entwicklungen\, Herausforderungen und Strategien der Wiener Bildungspolitik – von Fragen der Sprachförderung über Digitalisierung und Schulbau bis hin zu Kooperationen mit Eltern\, Gemeinden und Zivilgesellschaft. \n„Schule und Bildung in Wien bedeutet Schule und Bildung in einer Millionen-Großstadt\, der einzigen in Österreich. Einer Großstadt mit all ihren Chancen\, Möglichkeiten und Herausforderungen. Die Vielfalt in unserer Stadt wird in den Schulen gelebt\, gleichzeitig wirken sich gesellschaftliche\, wirtschaftliche\, demografische und geopolitische Entwicklungen immer auch auf die Schule aus.“ Elisabeth Fuchs\, Wiener Bildungsdirektorin. \nGemeinsam wollen wir diskutieren\, wie das Wiener Bildungssystem gestaltet werden kann\, um Qualität und Chancengerechtigkeit zu sichern – und welche Perspektiven sich für die nächsten Jahre eröffnen.
URL:https://wiener-bildungsakademie.wien/event/wie-entwickelt-sich-das-wiener-bildungssystem-im-21-jahrhundert-bildung-in-wien-perspektiven-und-herausforderungen-mit-der-wiener-bildungsdirektorin-elisabeth-fuchs/
LOCATION:Wiener Bildungszentrum\, Praterstraße 25a\, Wien\, 1020\, Österreich
CATEGORIES:Stadt.Leben.Politik – Die Wiener Perspektiven
ORGANIZER;CN="WBA":MAILTO:kontakt@wiener-bildungsakademie.at
END:VEVENT
BEGIN:VEVENT
DTSTART;TZID=Europe/Vienna:20260130T080000
DTEND;TZID=Europe/Vienna:20260201T170000
DTSTAMP:20260419T205348
CREATED:20251218T103047Z
LAST-MODIFIED:20251218T103047Z
UID:13471-1769760000-1769965200@wiener-bildungsakademie.wien
SUMMARY:Innsbruck ErLeben: Bildung\, Politik und Geschichte im Herzen der Alpen.
DESCRIPTION:Innsbruck\, die Landeshauptstadt Tirols\, ist ein Ort\, an dem Geschichte\, Kultur und politische Gegenwart auf besondere Weise zusammenfinden. Eingebettet zwischen Nordkette und Patscherkofel prägt sie den Alpenraum seit Jahrhunderten als Zentrum des Austauschs und als Stadt des Dialogs. Die politische Landschaft Tirols ist in Bewegung – die Sozialdemokratie gestaltet wieder aktiv mit und setzt wichtige Akzente für soziale Gerechtigkeit und gesellschaftlichen Zusammenhalt. \nVom 30. Jänner bis 1. Februar 2026 führt uns ein besonderes Programm nach Innsbruck\, wo die Bundeskonferenz der SPÖ-Bundesbildungsorganisation stattfindet – der zentrale Treffpunkt für Bildungsfunktionär:innen aus ganz Österreich. Neben der inhaltlichen Arbeit werden Begegnungen\, Diskussionen und gemeinsame Aktivitäten den Aufenthalt prägen. \nFreitag\, 30. Jänner 2026. Vormittags individuelle Anreise nach Innsbruck. Um 14:00 Uhr Besuch des Tiroler Landhauses und Gespräch mit Elisabeth Fleischanderl\, Klubvorsitzende der SPÖ im Tiroler Landtag. Um 17:00 Uhr Diskussionsveranstaltung „Wie sicher ist unsere Demokratie?“ im Theater praesent\, Tschamlerstraße 3\, mit der Dritten Präsidentin des Nationalrates Doris Bures\, Präsidentin des Karl-Renner-Institutes\, dem Dritten Präsidenten des Wiener Landtages Prof. Dr. Gerhard Schmid\, SPÖ-Bundesbildungsvorsitzender\, der Vizebürgermeisterin der Stadt Innsbruck Mag.a Elisabeth Mayr\, Bezirksbildungsvorsitzende\, dem Mitglied des Europäischen Parlaments a.D. Dr. Hannes Swoboda\, SPÖ-Bundesbildungsvorsitzender von 1995 bis 2010\, sowie der Gemeinderätin Dr.in Nicole Heinlein\, MA\, SPÖ-Tirol-Landesbildungssekretärin. Vor Beginn der Diskussion findet ein kultureller Auftakt statt. Um 19:30 Uhr gemeinsamer Ausklang mit Möglichkeit zum Austausch. \nSamstag\, 31. Jänner 2026. Vormittags Stadtrundgang auf den sozialdemokratischen Spuren Innsbrucks mit Stationen zu historischen Orten politischer und gesellschaftlicher Bewegung. Um 12:00 Uhr Teilnahme an der SPÖ-Bundesbildungskonferenz im Ausbildungszentrum AZW Innsbruck unter dem Motto „Wie sichern wir unsere Demokratie?“ mit Beiträgen aus Politik\, Wissenschaft und Zivilgesellschaft sowie den statutarischen Abläufen. Am Abend freie Zeit oder gemeinsames Abendessen\, Ort wird noch bekannt gegeben. \nSonntag\, 1. Februar 2026. Vormittags optionales Rahmenprogramm mit einer Fahrt mit der Nordkettenbahn auf den Hausberg Innsbrucks mit Blick über das Inntal als gemeinsamer Abschluss dieser politischen Bildungsreise. Nachmittags individuelle Abreise. \nInformationen und Anmeldung: Weitere Informationen erhältst du nach deiner Anmeldung unter markytan@wiener-bildungsakademie.at oder telefonisch unter +43 1 534 27 384. Wir unterstützen gerne bei Fragen zur Anreise und Unterkunft. Die Wiener Bildungsakademie übernachtet im Austria Trend Hotel Congress Innsbruck\, Rennweg 12a\, 6020 Innsbruck. Kontakt: congress@austria-trend.at\, +43 512 2115 601. Für Teilnehmende steht ein Abrufkontingent unter dem Codewort „SPÖ“ zur Verfügung.
URL:https://wiener-bildungsakademie.wien/event/innsbruck-erleben-bildung-politik-und-geschichte-im-herzen-der-alpen/
LOCATION:Innsbruck\, Innsbruck\, Tirol\, Austria
CATEGORIES:politische Bildungsreisen
ORGANIZER;CN="WBA":MAILTO:kontakt@wiener-bildungsakademie.at
END:VEVENT
END:VCALENDAR