BEGIN:VCALENDAR
VERSION:2.0
PRODID:-//Wiener Bildungsakademie - ECPv6.15.11//NONSGML v1.0//EN
CALSCALE:GREGORIAN
METHOD:PUBLISH
X-ORIGINAL-URL:https://wiener-bildungsakademie.wien
X-WR-CALDESC:Veranstaltungen für Wiener Bildungsakademie
REFRESH-INTERVAL;VALUE=DURATION:PT1H
X-Robots-Tag:noindex
X-PUBLISHED-TTL:PT1H
BEGIN:VTIMEZONE
TZID:Europe/Vienna
BEGIN:DAYLIGHT
TZOFFSETFROM:+0100
TZOFFSETTO:+0200
TZNAME:CEST
DTSTART:20250330T010000
END:DAYLIGHT
BEGIN:STANDARD
TZOFFSETFROM:+0200
TZOFFSETTO:+0100
TZNAME:CET
DTSTART:20251026T010000
END:STANDARD
BEGIN:DAYLIGHT
TZOFFSETFROM:+0100
TZOFFSETTO:+0200
TZNAME:CEST
DTSTART:20260329T010000
END:DAYLIGHT
BEGIN:STANDARD
TZOFFSETFROM:+0200
TZOFFSETTO:+0100
TZNAME:CET
DTSTART:20261025T010000
END:STANDARD
BEGIN:DAYLIGHT
TZOFFSETFROM:+0100
TZOFFSETTO:+0200
TZNAME:CEST
DTSTART:20270328T010000
END:DAYLIGHT
BEGIN:STANDARD
TZOFFSETFROM:+0200
TZOFFSETTO:+0100
TZNAME:CET
DTSTART:20271031T010000
END:STANDARD
END:VTIMEZONE
BEGIN:VEVENT
DTSTART;TZID=Europe/Vienna:20260130T080000
DTEND;TZID=Europe/Vienna:20260201T170000
DTSTAMP:20260419T192520
CREATED:20251218T103047Z
LAST-MODIFIED:20251218T103047Z
UID:13471-1769760000-1769965200@wiener-bildungsakademie.wien
SUMMARY:Innsbruck ErLeben: Bildung\, Politik und Geschichte im Herzen der Alpen.
DESCRIPTION:Innsbruck\, die Landeshauptstadt Tirols\, ist ein Ort\, an dem Geschichte\, Kultur und politische Gegenwart auf besondere Weise zusammenfinden. Eingebettet zwischen Nordkette und Patscherkofel prägt sie den Alpenraum seit Jahrhunderten als Zentrum des Austauschs und als Stadt des Dialogs. Die politische Landschaft Tirols ist in Bewegung – die Sozialdemokratie gestaltet wieder aktiv mit und setzt wichtige Akzente für soziale Gerechtigkeit und gesellschaftlichen Zusammenhalt. \nVom 30. Jänner bis 1. Februar 2026 führt uns ein besonderes Programm nach Innsbruck\, wo die Bundeskonferenz der SPÖ-Bundesbildungsorganisation stattfindet – der zentrale Treffpunkt für Bildungsfunktionär:innen aus ganz Österreich. Neben der inhaltlichen Arbeit werden Begegnungen\, Diskussionen und gemeinsame Aktivitäten den Aufenthalt prägen. \nFreitag\, 30. Jänner 2026. Vormittags individuelle Anreise nach Innsbruck. Um 14:00 Uhr Besuch des Tiroler Landhauses und Gespräch mit Elisabeth Fleischanderl\, Klubvorsitzende der SPÖ im Tiroler Landtag. Um 17:00 Uhr Diskussionsveranstaltung „Wie sicher ist unsere Demokratie?“ im Theater praesent\, Tschamlerstraße 3\, mit der Dritten Präsidentin des Nationalrates Doris Bures\, Präsidentin des Karl-Renner-Institutes\, dem Dritten Präsidenten des Wiener Landtages Prof. Dr. Gerhard Schmid\, SPÖ-Bundesbildungsvorsitzender\, der Vizebürgermeisterin der Stadt Innsbruck Mag.a Elisabeth Mayr\, Bezirksbildungsvorsitzende\, dem Mitglied des Europäischen Parlaments a.D. Dr. Hannes Swoboda\, SPÖ-Bundesbildungsvorsitzender von 1995 bis 2010\, sowie der Gemeinderätin Dr.in Nicole Heinlein\, MA\, SPÖ-Tirol-Landesbildungssekretärin. Vor Beginn der Diskussion findet ein kultureller Auftakt statt. Um 19:30 Uhr gemeinsamer Ausklang mit Möglichkeit zum Austausch. \nSamstag\, 31. Jänner 2026. Vormittags Stadtrundgang auf den sozialdemokratischen Spuren Innsbrucks mit Stationen zu historischen Orten politischer und gesellschaftlicher Bewegung. Um 12:00 Uhr Teilnahme an der SPÖ-Bundesbildungskonferenz im Ausbildungszentrum AZW Innsbruck unter dem Motto „Wie sichern wir unsere Demokratie?“ mit Beiträgen aus Politik\, Wissenschaft und Zivilgesellschaft sowie den statutarischen Abläufen. Am Abend freie Zeit oder gemeinsames Abendessen\, Ort wird noch bekannt gegeben. \nSonntag\, 1. Februar 2026. Vormittags optionales Rahmenprogramm mit einer Fahrt mit der Nordkettenbahn auf den Hausberg Innsbrucks mit Blick über das Inntal als gemeinsamer Abschluss dieser politischen Bildungsreise. Nachmittags individuelle Abreise. \nInformationen und Anmeldung: Weitere Informationen erhältst du nach deiner Anmeldung unter markytan@wiener-bildungsakademie.at oder telefonisch unter +43 1 534 27 384. Wir unterstützen gerne bei Fragen zur Anreise und Unterkunft. Die Wiener Bildungsakademie übernachtet im Austria Trend Hotel Congress Innsbruck\, Rennweg 12a\, 6020 Innsbruck. Kontakt: congress@austria-trend.at\, +43 512 2115 601. Für Teilnehmende steht ein Abrufkontingent unter dem Codewort „SPÖ“ zur Verfügung.
URL:https://wiener-bildungsakademie.wien/event/innsbruck-erleben-bildung-politik-und-geschichte-im-herzen-der-alpen/
LOCATION:Innsbruck\, Innsbruck\, Tirol\, Austria
CATEGORIES:politische Bildungsreisen
ORGANIZER;CN="WBA":MAILTO:kontakt@wiener-bildungsakademie.at
END:VEVENT
BEGIN:VEVENT
DTSTART;TZID=Europe/Vienna:20260203T180000
DTEND;TZID=Europe/Vienna:20260203T210000
DTSTAMP:20260419T192520
CREATED:20260122T100309Z
LAST-MODIFIED:20260126T111942Z
UID:13542-1770141600-1770152400@wiener-bildungsakademie.wien
SUMMARY:Wehrpflicht in Österreich – Reformbedarf oder Zukunftsmodell?
DESCRIPTION:Die Wehrpflicht ist seit jeher ein kontrovers diskutiertes Thema in Österreich. Angesichts aktueller Reformvorschläge der Bundesheer-Kommission lädt die Wiener Bildungsakademie (wba) in Kooperation mit der Jungen Generation Wien zu einer spannenden Diskussion ein: \n🗓 Dienstag\, 3. Februar 2024🕕 Beginn: 18.00 Uhr📍 Wiener Bildungszentrum \nDiskussionsteilnehmer: \n🔹 Mag. Alexander Ackerl – Gemeinderat in Wien und Vorsitzender der Jungen Generation Wien. Als Vertreter der jungen Generation bringt er die Perspektive junger Menschen auf Wehrpflicht\, Milizdienst und moderne Sicherheitskonzepte in die Debatte ein. \n🔹 Mag. Marcus Schober – Gemeinderat\, Sicherheitssprecher der SPÖ Wien\, Oberleutnant der Miliz sowie Vorsitzender der SPÖ Wiener Bildung. Mit seiner doppelten Expertise aus Politik und Militärdienst liefert er fundierte Einblicke in die aktuelle sicherheitspolitische Debatte und die Arbeit der Bundesheer-Kommission. \nThema:„Wehrpflicht: Diskussion zu den Reformvorschlägen der Bundesheer-Kommission“ \nWas muss sich an der Wehrpflicht ändern? Welche Rolle spielt das Bundesheer künftig in der Gesellschaft? Und wie können Reformen gelingen\, die sowohl die Sicherheit Österreichs als auch die Bedürfnisse junger Menschen berücksichtigen?
URL:https://wiener-bildungsakademie.wien/event/wehrpflicht-in-oesterreich-reformbedarf-oder-zukunftsmodell/
LOCATION:Wiener Bildungszentrum\, Praterstraße 25a\, Wien\, 1020\, Österreich
CATEGORIES:Ausbildungsprogramm 2026 - Frühjahr
ATTACH;FMTTYPE=image/jpeg:https://wiener-bildungsakademie.wien/wp-content/uploads/2026/01/BH.jpeg
ORGANIZER;CN="WBA":MAILTO:kontakt@wiener-bildungsakademie.at
END:VEVENT
BEGIN:VEVENT
DTSTART;TZID=Europe/Vienna:20260216T180000
DTEND;TZID=Europe/Vienna:20260216T210000
DTSTAMP:20260419T192520
CREATED:20260113T094114Z
LAST-MODIFIED:20260113T094114Z
UID:13496-1771264800-1771275600@wiener-bildungsakademie.wien
SUMMARY:Sicherheit in Wien. Resilienz\, Zivilschutz und internationale Lage. Wie eine Großstadt vorbereitet bleibt – von Alltagssicherheit bis Krisenmanagement\, mit Gemeinderat Marcus Schober.
DESCRIPTION:Im Rahmen unserer Reihe Stadt.Leben.Politik widmen wir uns an diesem Abend der Frage\, wie Sicherheit in Wien ganzheitlich gedacht und umgesetzt wird. Dabei geht es um weit mehr als klassische Einsatzorganisationen: Sicherheit umfasst gut gestaltete öffentliche Räume\, sichere Veranstaltungen und Alltagsmobilität ebenso wie Zivilschutz\, Katastrophenvorsorge und professionelle Krisenkommunikation. Auch Themen wie Cybersecurity und der Umgang mit Desinformation spielen eine zunehmend zentrale Rolle. Was kann die Stadt konkret leisten\, wo braucht es die Zusammenarbeit mit Bund\, Einsatzorganisationen\, Schulen\, Vereinen und der Zivilgesellschaft – und wie behalten wir in komplexen internationalen Lagen den Überblick? \n„Sicherheit ist mehr als Blaulicht – sie ist Vertrauen in eine Stadt\, die handelt. Wir investieren konsequent in Feuerwehr und Katastrophenschutz\, in Prävention\, soziale Sicherheit und digitale Abwehr – von besserer Beleuchtung und Präsenz im öffentlichen Raum bis zu Cyber-Schutz und Energiebonus. Sicherheit gibt es nicht umsonst\, und sie ist ein Grundbedürfnis\, keine Parteifrage: Wenn Stadt\, Polizei und Bevölkerung überparteilich zusammenarbeiten\, sichern wir Freiheit\, Demokratie und Frieden in Wien – damit alle ohne Angst leben können.“ Marcus Schober\, Sicherheitssprecher der SPÖ Wien. \nAls Referent begrüßen wir Mag. Marcus Schober\, Wiener Gemeinderat und Sicherheitssprecher der SPÖ Wien. Er meldete sich 1999 als Einjährig-Freiwilliger beim Bundesheer\, erhielt eine fundierte Ausbildung als Fernmelde- und Informationsoffizier sowie als Kommunikationstrainer und ist seit über 25 Jahren Milizsoldat. Aus dieser langjährigen Praxis bringt er umfassende Erfahrungen in Führung\, Kommunikation und Lageeinschätzung mit. In seinem Beitrag verbindet er Fragen der Wiener Alltagssicherheit – etwa Resilienz der Stadt\, Schutz kritischer Infrastruktur und die Zusammenarbeit zwischen Stadt und Einsatzorganisationen – mit einem realistischen Blick auf internationale Entwicklungen\, vom Nahen Osten über Europa bis hin zu aktuellen sicherheitspolitischen Diskursen auf internationaler Ebene. Im Mittelpunkt steht dabei stets ein nüchterner Zugang: analysieren\, Verantwortung übernehmen und ideologische Scheuklappen ablegen. \nGemeinsam diskutieren wir\, wie Wien als neutrale und internationale Stadt\, etwa als Standort von UNO und OSZE\, zwischen Prävention\, Vermittlung und handfester Vorsorge agiert. Welche Rolle spielen Ausbildung und Miliz? Wie gelingen Krisenübungen und glaubwürdige Kommunikation? Wie stärken wir Nachbarschaften und Vereine als tragendes Sicherheitsnetz? Und welche nächsten Schritte sind sinnvoll\, damit Sicherheit in Wien spürbar\, verhältnismäßig und grundrechtskonform bleibt?
URL:https://wiener-bildungsakademie.wien/event/sicherheit-in-wien-resilienz-zivilschutz-und-internationale-lage-wie-eine-grossstadt-vorbereitet-bleibt-von-alltagssicherheit-bis-krisenmanagement-mit-gemeinderat-marcus-schober/
LOCATION:Wiener Bildungszentrum\, Praterstraße 25a\, Wien\, 1020\, Österreich
CATEGORIES:Stadt.Leben.Politik – Die Wiener Perspektiven
ORGANIZER;CN="WBA":MAILTO:kontakt@wiener-bildungsakademie.at
END:VEVENT
BEGIN:VEVENT
DTSTART;TZID=Europe/Vienna:20260217T080000
DTEND;TZID=Europe/Vienna:20260218T170000
DTSTAMP:20260419T192520
CREATED:20251209T190512Z
LAST-MODIFIED:20251209T194304Z
UID:13403-1771315200-1771434000@wiener-bildungsakademie.wien
SUMMARY:Europa ErLeben: Der politische Aschermittwoch der BayernSPD 2026
DESCRIPTION:und 18. Februar 2026\n\n  \nSeit vielen Jahren ist der Politische Aschermittwoch der BayernSPD in Vilshofen ein Fixpunkt für alle\, die politische Klartextreden\, gelebte Solidarität und internationalen Austausch schätzen. Diese traditionsreiche Veranstaltung ist mehr als ein politisches Ritual – sie ist ein lebendiger Ausdruck demokratischer Kultur\, der jedes Jahr aufs Neue inspiriert. Ob laut und kämpferisch oder leise und nachdenklich: Der Politische Aschermittwoch gibt Impulse\, eröffnet neue Perspektiven und stärkt den gemeinsamen Einsatz für soziale Gerechtigkeit\, Zusammenhalt und eine solidarische Gesellschaft. \n  \nIm Zuge unserer Reise machen wir auch Station in St. Pölten. Auf der Hinreise nehmen wir die Gelegenheit wahr\, die Landesebene kennenzulernen\, und werden dabei mit Hannes Weninger zusammentreffen\, dem Klubvorsitzenden der SPÖ Niederösterreich. Am Rückweg vom Aschermittwoch legen wir ebenfalls einen Halt in St. Pölten ein und werden dort mit Bürgermeister Matthias Stadler ins Gespräch kommen. So verbinden wir die Teilnahme an einer traditionsreichen politischen Großveranstaltung mit wichtigen Begegnungen vor Ort und einem vertieften Blick in die politische Praxis Niederösterreichs. \n  \nFaschings-Dienstag\, 17. Februar 2026 \nBei ausreichender Anmeldung und bei Interesse besteht die Möglichkeit zu einer gemeinsamen Busfahrt\, Kosten etwa 130 Euro pro Person: \n08:15              Abfahrt vom West-Bahnhof Hütteldorf\, Kiss&Ride-Zone hinter dem Lidl \n08:30              Abfahrt vom Bahnhof Hütteldorf\, Busstation in der Hadikgasse \n08:51             D1018 von Wien Hütteldorf nach St. Pölten \n09:11             Ankunft in St. Pölten \n9:30                Besuch des Niederösterreichischen Landtages\, Landhaus Boulevard 1 (1km) \n10:30              Zusammentreffen im SPÖ-Landtagsklub mit Klubobmann Hannes Weninger \n11:30              Besuch des Landesmuseum\, Franz-Schubert-Platz 5 \n13:00              kurze Mittagspause (selbst zu bezahlen) \n13:46             ICE 90 von St. Pölten nach Passau \n15:31             Umstieg in Passau \n16:26             RE 3 von Passau nach Vilshofen \n16:40             Ankunft in Vilshofen \n14:00              Abfahrt nach Vilshofen an der Donau \n18:00              Backstageführung durch den Wolferstetter Keller\, Bürg 21 mit BayernSPD-Generalsekretärin Kathrin Pollack sowie dem stellvertretenden Generalsekretär Uwe Kirschstein und weiteren Mandatar*innen und Funktionär*innen \n19:30              Abendessen im Gasthof Wolferstetterbräu\, Stadtplatz 14\, und Zusammentreffen mit Vertreter*innen Mandatar*innen und Funktionär*innen der BayernSPD\, u.a. Bürgermeister Florian Gams (selbst zu bezahlen) \n  \nAscher-Mittwoch\, 18. Februar 2026 \nAb 07:00        Frühstück \n08:30              Einlass in den Wolferstetter Keller\, Bürg 21\, 94474 Vilshofen an der Donau \n10:00              Politischer Aschermittwoch der BayernSPD mit den Landespartei-Vorsitzenden Ronja Endres und Sebastian Roloff sowie weiteren Redner:innen \n12:00              Ende der Veranstaltung in Vilshofen an der Donau \n13:00              Abfahrt nach Österreich \n13:34             RE 3 von Vilshofen nach Plattling \n13:53             Umstieg in Plattling \n13:59             ICE 91 von Plattling nach St. Pölten \n16:14             Ankunft in St. Pölten \n16:30              Besuch von St. Pölten\, Zusammentreffen mit Bürgermeister Mag. Matthias Stadler sowie Mandatar*innen und Funktionär*innen der SPÖ im Rathaus\, Rathausplatz 1(0\,5 km) \n18:55             WB 925 von St. Pölten nach Wien Hütteldorf \n19:14             Ankunft in Wien Hütteldorf \n19:00              Abfahrt nach Wien \n20:00              Ankunft in Wien Hütteldorf bzw. Westbahnhof \n  \nWir empfehlen folgende Unterkünfte\, bei denen wir bereits nach freien Zimmern angefragt haben\, bitte Zimmer selbstständig bestellen: \n  \nGasthof Wolferstetterbräu\, Stadtplatz 14\, 94474 Vilshofen a.d. Donau\nTelefon: +49 8541 943 98 86\nhttps://gasthof-wolferstetter.de/zimmer/ // E-Mail: info@gasthof-wolferstetter.de \nEinzelbettzimmer ab 69€\, Doppelzimmer ab 79€\, Dreibettzimmer ab 143€//Frühstück 10€ \n  \nFrühstückspension Peter Sagerer\, Alte Fischergasse 4\, 94474 Vilshofen a.d. Donau\nTelefon: +49 8541 / 77 79 // Mobil: +49 175 1987 127\nhttps://www.pension-sagerer.de/home.html // E-Mail: peter-sagerer@t-online.de\nEinzelzimmer mit Frühstück 75€ \n  \nGästehaus Klosterhof Schweiklberg\, Schweiklberg 1\, 94474 Vilshofen a.d. Donau\nTelefon: +49 8541 209 270 // Mobil: +49 151 2015 6064\nhttps://www.klosterhof-schweiklberg.de/klosterhof/ // E-Mail: gaestehaus@schweiklberg.de \nEinzelzimmer 59€\, Doppelzimmer oder Zweibettzimmer 98€\, Doppelzimmer oder Zweibettzimmer zur Einzelbelegung 80€ //Frühstücksbuffet für 9€ \nAnmeldung/Kontakt: markytan@wiener-bildungsakademie.at // 01 534 27 384
URL:https://wiener-bildungsakademie.wien/event/europa-erleben-der-politische-aschermittwoch-der-bayernspd-2026/
LOCATION:Wolferstetter Keller\, Vilshofen\, Bürg 21\, Vilshofen\, Bayern\, 94474\, Germany
CATEGORIES:Ausbildungsprogramm 2026 - Frühjahr,politische Bildungsreisen
ORGANIZER;CN="WBA":MAILTO:kontakt@wiener-bildungsakademie.at
END:VEVENT
BEGIN:VEVENT
DTSTART;VALUE=DATE:20260218
DTEND;VALUE=DATE:20260219
DTSTAMP:20260419T192520
CREATED:20250702T112059Z
LAST-MODIFIED:20250702T112059Z
UID:13007-1771372800-1771459199@wiener-bildungsakademie.wien
SUMMARY:Europa ErLeben: Politischer Aschermittwoch der BayernSPD – Tradition. Austausch. Aufbruch.
DESCRIPTION:Seit vielen Jahren ist der Politische Aschermittwoch der BayernSPD in Vilshofen ein Fixpunkt für alle\, die politische Klartextreden\, gelebte Solidarität und echten internationalen Austausch schätzen. Auch 2026 machen wir uns wieder auf den Weg – gemeinsam\, engagiert und mit offenen Ohren und Herzen für das\, was bewegt. \nUnsere Fahrt ist mehr als nur der Besuch einer Traditionsveranstaltung: Sie ist Teil eines gelebten demokratischen Miteinanders. Unterwegs entdecken wir neue Orte\, treffen spannende politische Menschen\, führen bereichernde Gespräche – und stärken das\, was uns verbindet: unser Einsatz für soziale Gerechtigkeit\, Zusammenhalt und eine solidarische Gesellschaft. \nOb laut und kämpferisch oder leise und nachdenklich – der politische Aschermittwoch inspiriert jedes Jahr aufs Neue. Wir freuen uns auf viele Eindrücke\, neue Impulse und gemeinsame Erlebnisse – denn politische Bildung beginnt dort\, wo wir uns begegnen. \nInformationen und Anmeldung: markytan@wiener-bildungsakademie.at bzw. +43 1 534 27/384
URL:https://wiener-bildungsakademie.wien/event/europa-erleben-politischer-aschermittwoch-der-bayernspd-tradition-austausch-aufbruch/
LOCATION:Wolferstetter Keller\, Vilshofen\, Bürg 21\, Vilshofen\, Bayern\, 94474\, Germany
CATEGORIES:Politische Bildungsreise
ATTACH;FMTTYPE=image/jpeg:https://wiener-bildungsakademie.wien/wp-content/uploads/2025/07/wba_Ausbildungsprogramm2025_eventbrite_2160x1080px12.jpg
ORGANIZER;CN="WBA":MAILTO:kontakt@wiener-bildungsakademie.at
END:VEVENT
BEGIN:VEVENT
DTSTART;TZID=Europe/Vienna:20260220T080000
DTEND;TZID=Europe/Vienna:20260222T170000
DTSTAMP:20260419T192520
CREATED:20251218T102433Z
LAST-MODIFIED:20251218T102433Z
UID:13468-1771574400-1771779600@wiener-bildungsakademie.wien
SUMMARY:Europa ErLeben: Das politische Bayern und Gedenken an die Geschwister Scholl
DESCRIPTION:Im Rahmen unserer politischen Bildungsarbeit reisen wir in Zusammenarbeit mit dem Karl-Renner-Institut nach München – eine Stadt mit zentraler Bedeutung im föderalen System Deutschlands und reich an politischen wie historischen Erinnerungsorten. Vor Ort erhalten wir einen kompakten Einblick in zentrale Institutionen sowie in die politische Landschaft Bayerns. \nBesonders aktuell ist diese Reise durch die bevorstehenden Kommunalwahlen am 8. März 2026. Die politische Aufmerksamkeit richtet sich auf lokale Themen\, Parteien und Entscheidungsprozesse – ein spannender Moment\, um politische Dynamiken unmittelbar mitzuerleben. Ein inhaltlicher Höhepunkt ist die Teilnahme an der Gedenkfeier für die Geschwister Scholl. Ihr mutiger Widerstand gegen den Nationalsozialismus mahnt bis heute zur Verteidigung demokratischer Werte und zum zivilgesellschaftlichen Engagement. \nDiese Reise soll informieren\, sensibilisieren und zum Nachdenken über politische Verantwortung sowie aktive Teilhabe anregen. \nFreitag\, 20. Februar 2026. Vormittags individuelle Anreise nach München. Um 14:00 Uhr Führung durch den Bayerischen Landtag sowie Zusammentreffen mit Katja Weitzel\, Sprecherin der SPD-Landtagsfraktion für Religionspolitik\, Kulturpolitik und Wissenschaftspolitik. Um 17:00 Uhr Stadtführung mit Markus Angstwurm. Die Kosten werden aufgeteilt. Um 19:30 Uhr Zusammentreffen mit der Landesparteivorsitzenden der BayernSPD Ronja Endres\, Ort folgt noch\, Kosten sind selbst zu bezahlen. \nSamstag\, 21. Februar 2026. Um 9:00 Uhr Führung durch das Münchner Rathaus. Um 10:00 Uhr Weißwurst-Frühstück mit Christian Köning\, Fraktionssprecher der Rathausfraktion und Vorsitzender der SPD München\, sowie Konstantin Heyder\, Fraktionsgeschäftsführer. Um 12:00 Uhr Besuch von Infoständen im Kommunalwahlkampf mit Vorfa Era\, Geschäftsführerin der SPD München. Um 13:00 bzw. 13:30 Uhr Führung durch die Justizvollzugsanstalt München mit Schwerpunkt auf den Hinrichtungen in der NS-Zeit. Um 15:30 Uhr Führung „Weiße Rose“ mit Rundgang durch die Universität und die Denkstätte Weiße Rose\, inklusive Ereignisgeschichte\, Rundgang im Lichthof mit der Abwurfstelle der Flugblätter und dem Ort der Verhaftung. Begleitet wird der Rundgang von Dr.in Eva Hoegner von der Weiße Rose Stiftung\, Ehefrau des Ur-Enkels von Wilhelm Johann Harald Hoegner\, Bayerischer Ministerpräsident in den Jahren 1945–1946 sowie 1954–1957 und einziger Sozialdemokrat in diesem Amt. Um 17:30 Uhr Besuch der AWO Haidbräu: Vorstellung der AWO München\, Brauereibesichtigung und Brotzeit mit Florian von Brunn\, Mitglied des Bayerischen Landtages und Vorsitzender der AWO München\, Kostenbeitrag 23 Euro\, selbst zu bezahlen. \nSonntag\, 22. Februar 2026. Vormittags Gedenken an die Geschwister Scholl mit der SPD München Süd\, gemeinsam mit Florian von Brunn und einer noch nicht bekannten Gastrednerin oder einem noch nicht bekannten Gastredner\, am Friedhof am Perlacher Forst. Im Anschluss kleine Brotzeit im AWO-Föhrenpark\, begleitet von der Unterbiberger Hofmusik. Nachmittags individuelle Rückreise. \nEin Zusammentreffen mit dem Bundestagsabgeordneten Michael Schrodi ist vorgesehen\, der genaue Zeitpunkt wird noch bekannt gegeben. \nDie Wiener Bildungsakademie wird im Hotel Motel One München-Campus\, Tegernseer Landstraße 165\, 81539 München\, übernachten. Die Kosten betragen etwa 75 Euro pro Nacht. Das Hotel wurde aufgrund des günstigen Preis-Leistungs-Verhältnisses sowie der Nähe zu den Hauptprogrammpunkten ausgewählt. Bei Interesse bitte das Zimmer selbstständig buchen; in Notfällen unterstützen wir gerne. \nWenn Interesse an einer gemeinsamen Anreise besteht\, bitten wir um entsprechende Rückmeldung. \nAnmeldung und Kontakt: markytan@wiener-bildungsakademie.at\, Telefon 01 534 27 384.
URL:https://wiener-bildungsakademie.wien/event/europa-erleben-das-politische-bayern-und-gedenken-an-die-geschwister-scholl/
LOCATION:München\, München\, Bayern\, Germany
CATEGORIES:politische Bildungsreisen
ORGANIZER;CN="WBA":MAILTO:kontakt@wiener-bildungsakademie.at
END:VEVENT
BEGIN:VEVENT
DTSTART;TZID=Europe/Vienna:20260224T183000
DTEND;TZID=Europe/Vienna:20260224T210000
DTSTAMP:20260419T192520
CREATED:20260219T115928Z
LAST-MODIFIED:20260219T115928Z
UID:13614-1771957800-1771966800@wiener-bildungsakademie.wien
SUMMARY:Filmvorführung DIE KINDER DER SCHWEIGENDEN
DESCRIPTION:Filmvorführung & Gespräch: Die Kinder der Schweigenden \nMit Regisseur Prof. Fred Turnheim\, Filmemacher und Schutzbundkind \nProf.in Mag.a Hannah M. Lessing\, Vorstand des Nationalfonds der Republik Österreich für die Opfer des Nationalsozialismus \nDr.in Karin Moser\, Zeithistorikerin\, Vizedirektorin der Wiener Bildungsakademie \n  \nTermin: Dienstag\, 24. Februar 2026 um 18:30 Uhr Ort: Wiener Bildungsakademie\, Praterstraße 25a\, 1020 Wien\, U1-Station Nestroyplatz \n  \nDie Wiener Bildungsakademie lädt zur Vorführung des Dokumentarfilms „Die Kinder der Schweigenden“ von Fred Turnheim ein.  \n  \nÜberlebende des NS-Terrors haben sich in ihren Familien über die Verfolgung\, Folter\, Gewalterfahrung\, permanente Todesangst und den Überlebenskampf im Konzentrationslager oft ausgeschwiegen. Der Film zeigt\, wie schwer es vielen Zeitzeug:innen fiel\, ihre Erfahrungen nicht nur öffentlich\, sondern auch im engsten Familienkreis weiterzugeben. \n  \nAusgangspunkt ist ein Interview mit dem Holocaust-Überlebenden Abba Naor\, der über Jahrzehnte hinweg Schüler:innen in Bayern seine Geschichte erzählte\, innerhalb seiner eigenen Familie jedoch lange schwieg. Aus diesem Spannungsfeld ergeben sich Fragen\, die bis heute von Bedeutung sind: Wie prägt das Schweigen der Eltern die nachfolgenden Generationen? Welche Traumata wirken fort und bestimmen das Leben der Kinder und Enkel:innen? Und wie kann man mit dem Wissen leben\, nur durch Zufall überlebt zu haben? \n  \nDer Film verbindet Zeitzeug:innenberichte\, persönliche Familiengeschichten und wissenschaftliche Analysen zu einer eindrucksvollen Reflexion über die Weitergabe von Erinnerungen. Er macht deutlich\, dass das Schweigen nicht nur eine Leerstelle\, sondern auch eine Form der Übertragung sein kann\, die Nachkommen auf ihre ganz eigene Weise prägt. \n  \nBesonders berührend ist die persönliche Spurensuche des Regisseurs\, dessen Großeltern 1943 in Auschwitz ermordet wurden. Durch diese persönliche Dimension gewinnt das Werk eine zusätzliche Tiefe\, die die allgemeine historische Aufarbeitung mit einem individuellen Schicksal verknüpft. Die Geschichte der Familie Turnheim steht stellvertretend für viele andere\, in denen das Schweigen ebenso präsent war wie das Bedürfnis\, sich irgendwann mitzuteilen. \n  \n„‚Die Kinder der Schweigenden‘ ist mein Versuch\, dem Verschweigen Gesichter zu geben. Meine Großeltern Emanuel und Cäcilie Weiss wurden am 9. November 1943 in Auschwitz ermordet; die Tonköpfe\, die meine Tante formte\, stehen für jene\, die zum Schweigen gebracht wurden – und doch nie verstummen.“ – Fred Turnheim \n  \nIm Anschluss an die Filmvorführung findet ein Publikumsgespräch statt\, das die im Film aufgeworfenen Fragen vertieft und Raum für gemeinsame Reflexion bietet. Dabei soll nicht nur über die Vergangenheit gesprochen werden\, sondern auch über die Bedeutung von Erinnerungskultur in der Gegenwart. Wie gehen wir heute\, 80 Jahre nach der Befreiung der Konzentrationslager\, mit den Geschichten der Überlebenden und ihrer Nachkommen um? Welche Verantwortung tragen wir\, die Erinnerung lebendig zu halten\, wenn die Stimmen der Zeitzeug:innen eines Tages verstummt sind? Die Veranstaltung möchte dazu beitragen\, dass diese Fragen nicht unbeantwortet bleiben\, sondern in einem offenen Dialog weitergetragen werden.
URL:https://wiener-bildungsakademie.wien/event/filmvorfuehrung-die-kinder-der-schweigenden/
LOCATION:Wiener Bildungszentrum\, Praterstraße 25a\, Wien\, 1020\, Österreich
ORGANIZER;CN="WBA":MAILTO:kontakt@wiener-bildungsakademie.at
END:VEVENT
END:VCALENDAR