BEGIN:VCALENDAR
VERSION:2.0
PRODID:-//Wiener Bildungsakademie - ECPv6.15.11//NONSGML v1.0//EN
CALSCALE:GREGORIAN
METHOD:PUBLISH
X-WR-CALNAME:Wiener Bildungsakademie
X-ORIGINAL-URL:https://wiener-bildungsakademie.wien
X-WR-CALDESC:Veranstaltungen für Wiener Bildungsakademie
REFRESH-INTERVAL;VALUE=DURATION:PT1H
X-Robots-Tag:noindex
X-PUBLISHED-TTL:PT1H
BEGIN:VTIMEZONE
TZID:Europe/Vienna
BEGIN:DAYLIGHT
TZOFFSETFROM:+0100
TZOFFSETTO:+0200
TZNAME:CEST
DTSTART:20250330T010000
END:DAYLIGHT
BEGIN:STANDARD
TZOFFSETFROM:+0200
TZOFFSETTO:+0100
TZNAME:CET
DTSTART:20251026T010000
END:STANDARD
BEGIN:DAYLIGHT
TZOFFSETFROM:+0100
TZOFFSETTO:+0200
TZNAME:CEST
DTSTART:20260329T010000
END:DAYLIGHT
BEGIN:STANDARD
TZOFFSETFROM:+0200
TZOFFSETTO:+0100
TZNAME:CET
DTSTART:20261025T010000
END:STANDARD
BEGIN:DAYLIGHT
TZOFFSETFROM:+0100
TZOFFSETTO:+0200
TZNAME:CEST
DTSTART:20270328T010000
END:DAYLIGHT
BEGIN:STANDARD
TZOFFSETFROM:+0200
TZOFFSETTO:+0100
TZNAME:CET
DTSTART:20271031T010000
END:STANDARD
END:VTIMEZONE
BEGIN:VEVENT
DTSTART;TZID=Europe/Vienna:20260302T180000
DTEND;TZID=Europe/Vienna:20260302T200000
DTSTAMP:20260419T173648
CREATED:20260113T094944Z
LAST-MODIFIED:20260113T094944Z
UID:13499-1772474400-1772481600@wiener-bildungsakademie.wien
SUMMARY:Gesundheitsplanung in Wien: Der Regionale Strukturplan Gesundheit (RSG) – Versorgung steuern\, Qualität sichern\, Zugänge verbessern\, mit Gemeinderätin Andrea Mautz.
DESCRIPTION:Wie stellt Wien sein Gesundheitswesen so auf\, dass Versorgung wohnortnah\, leistbar und qualitativ hochwertig bleibt? Der Regionale Strukturplan Gesundheit (RSG) ist das zentrale Instrument der Stadt Wien\, um die Gesundheitsversorgung für die kommenden Jahre vorausschauend zu planen – abgestimmt mit Bund und Sozialversicherung. Er definiert Ziele\, Kapazitäten und Standorte und wird regelmäßig weiterentwickelt. \n„Es muss selbstverständlich sein\, dass alle Menschen die gleiche hochwertige Gesundheitsversorgung erhalten – unabhängig von ihrer Postleitzahl am Meldezettel. Darum ist eine gemeinsame Spitals- und Gesundheitsplanung in der Ostregion notwendig\, denn die Patient*innen sollten im Mittelpunkt der Versorgung stehen und nicht die Grenzen zwischen Bundesländern.“ Andrea Mautz\, Gemeinderätin der Stadt Wien. \nIm Mittelpunkt des Abends steht ein differenzierter Blick auf Erreichbarkeit\, Qualität und die Zusammenarbeit der verschiedenen Versorgungssektoren. Als Referentin führt Gemeinderätin Mag.a Andrea Mautz\, Vorsitzende des Ausschusses für Soziales\, Gesundheit und Sport\, durch die zentralen Inhalte. Aus dieser Funktion heraus ordnet sie aktuelle Maßnahmen\, politische Prioritäten und nächste Schritte für Wien ein – von Prävention über den Ausbau der Primärversorgung bis hin zu Planung und Finanzierung im Zusammenspiel mit dem Wiener Gesundheitsfonds. \nEin weiterer Schwerpunkt liegt auf Governance und Verbindlichkeit: Wie greifen der Österreichische Strukturplan Gesundheit (ÖSG) als Bundesrahmen und der RSG auf Landesebene ineinander? Welche Teile des RSG sind rechtlich verbindlich\, und wie werden diese in der Praxis umgesetzt und evaluiert? \nDer Abend bietet einen transparenten Überblick über Planungslogik\, Beteiligungswege und rechtliche Grundlagen der Wiener Gesundheitsplanung. Der RSG umfasst sowohl die stationäre Versorgung mit einem abgestuften\, bedarfsgerechten Krankenhaus-System als auch die ambulante Versorgung – von Spitalsambulanzen über den niedergelassenen Bereich und die Primärversorgung bis hin zu Ambulatorien. Damit wird festgelegt\, wo und in welcher Form medizinische Leistungen sinnvoll angeboten werden\, um Qualität zu sichern und Zugänge für alle Wienerinnen und Wiener zu verbessern.
URL:https://wiener-bildungsakademie.wien/event/gesundheitsplanung-in-wien-der-regionale-strukturplan-gesundheit-rsg-versorgung-steuern-qualitaet-sichern-zugaenge-verbessern-mit-gemeinderaetin-andrea-mautz/
LOCATION:Wiener Bildungszentrum\, Praterstraße 25a\, Wien\, 1020\, Österreich
CATEGORIES:Stadt.Leben.Politik – Die Wiener Perspektiven
ORGANIZER;CN="WBA":MAILTO:kontakt@wiener-bildungsakademie.at
END:VEVENT
BEGIN:VEVENT
DTSTART;TZID=Europe/Vienna:20260303T180000
DTEND;TZID=Europe/Vienna:20260303T193000
DTSTAMP:20260419T173649
CREATED:20260204T132648Z
LAST-MODIFIED:20260216T160559Z
UID:13563-1772560800-1772566200@wiener-bildungsakademie.wien
SUMMARY:Die Anti-Gleichberechtigungsbewegung in Europa
DESCRIPTION:Seit Jahren greifen transnational vernetzte Anti-Gender-Bewegungen die Rechte von Frauen\, LGBTIQ*-Personen sowie die Zivilgesellschaft an. Oligarchen\, rechte Milliardäre\, rechtkonservative und rechtsklerikale Organisationen und auch Vertreter:innen des europäischen Adels haben Milliardenbeträge investiert\, um gegen Gleichstellung\, Schwangerschaftsabbruch\, das Recht auf Scheidung oder auch gegen Sexualpädagogik zu mobilisieren. \nAusgehend von den Forschungen Neil Dattas (Geschäftsführer des Europäischen Parlamentarischen Forums für sexuelle und reproduktive Rechte/EPF) werden wir über die hinter der Anti-Gleichstellungsbewegung stehenden Netzwerke und deren Strategien sprechen. \nGespräch mit: \nPenny Bayr\, Abgeordnete zum Nationalrat und Vorsitzende des Außenpolitischen Ausschusses\, SPÖ\, Präsidentin der Parlamentarischen Versammlung des Europarates \nNeil Datta\, Geschäftsführender Direktor des Europäischen Parlamentarischen Forums für sexuelle und reproduktive Rechte (EPF) \nZeit & Ort: Karl Renner Institut\, 18:00 – 19:30 Uhr \nZielgruppe: Interessierte an feministischen Themen\nProjektleitung: Dr.in Karin Moser \nAnmeldung: moser@wiener-bildungsakademie.at
URL:https://wiener-bildungsakademie.wien/event/die-anti-gleichberechtigungsbewegung-in-europa/
LOCATION:Renner Institut\, Karl-Popper-Straße 8\, Wien\, Wien\, 1100\, Austria
CATEGORIES:Frauenpolitik
ORGANIZER;CN="WBA":MAILTO:kontakt@wiener-bildungsakademie.at
END:VEVENT
BEGIN:VEVENT
DTSTART;TZID=Europe/Vienna:20260314T100000
DTEND;TZID=Europe/Vienna:20260314T120000
DTSTAMP:20260419T173649
CREATED:20260116T104431Z
LAST-MODIFIED:20260116T104431Z
UID:13528-1773482400-1773489600@wiener-bildungsakademie.wien
SUMMARY:Wem gehört der öffentliche Raum? Who Cares? Julia Girardi-Hoog im Gespräch mit Elsa Kühnel.
DESCRIPTION:Wer plant für wen den öffentlichen Raum? Wer übernimmt Care-Arbeit – und was hat das miteinander zu tun? Diese Fragen stehen im Zentrum eines Abends\, der Stadtentwicklung aus einer geschlechter- und gesellschaftspolitischen Perspektive beleuchtet. Ein Fakt zum Frauentag macht strukturelle Ungleichheiten sichtbar: In Wien gibt es deutlich mehr Straßen\, die nach Pflanzen benannt sind\, als nach Frauen. Öffentlicher Raum ist also nicht neutral\, sondern Ausdruck historischer und aktueller Machtverhältnisse. \nDr.in Julia Girardi-Hoog von der Stadtbaudirektion Wien\, verantwortlich für Gender Planning\, zeigt auf\, wie Wien diesen Ungleichheiten aktiv begegnet – und warum die Stadt europaweit als Vorreiterin für geschlechtergerechte Stadtplanung gilt. Es geht um Sicherheit\, Sichtbarkeit und Teilhabe\, um Wege\, Plätze\, Beleuchtung\, Nutzungen und um die Frage\, wessen Bedürfnisse bei Planung und Gestaltung mitgedacht werden. \n„Der öffentliche Raum ist kein neutraler Ort – er spiegelt\, wem Sichtbarkeit\, Sicherheit und Teilhabe zugestanden werden. Geschlechtergerechtes Planen heißt\, diese Ungleichheiten bewusst zu verändern – damit Städte für alle da sind.“\nJulia Girardi-Hoog\, Stadtbaudirektion Wien. \nIm Gespräch mit Elsa Kühnel werden die Zusammenhänge zwischen Care-Arbeit\, Alltagswegen\, Stadtplanung und sozialer Gerechtigkeit diskutiert. Dabei geht es nicht nur um Frauenpolitik\, sondern um eine Stadt für alle: Kinder\, ältere Menschen\, Personen mit Betreuungspflichten\, Menschen mit Behinderungen – und um die Frage\, wie öffentlicher Raum gerechter\, inklusiver und lebenswerter gestaltet werden kann. \nDiese Veranstaltung ist Teil der Ausbildungsreihe „Ideologie im Gespräch – Werte. Weltbilder. Wirklichkeit.“. Die Reihe bietet Raum für kritische Reflexion gesellschaftlicher Machtverhältnisse und verbindet theoretische Zugänge mit konkreten politischen und planerischen Praxisbeispielen. \nAnmeldung per Mail an markytan@wiener-bildungsakademie.at
URL:https://wiener-bildungsakademie.wien/event/wem-gehoert-der-oeffentliche-raum-who-cares-julia-girardi-hoog-im-gespraech-mit-elsa-kuehnel/
LOCATION:Wiener Bildungszentrum\, Praterstraße 25a\, Wien\, 1020\, Österreich
CATEGORIES:Ausbildungsprogramm 2026 - Frühjahr,Ideologie im Gespräch
ORGANIZER;CN="WBA":MAILTO:kontakt@wiener-bildungsakademie.at
END:VEVENT
BEGIN:VEVENT
DTSTART;TZID=Europe/Vienna:20260319T180000
DTEND;TZID=Europe/Vienna:20260319T203000
DTSTAMP:20260419T173649
CREATED:20260319T103603Z
LAST-MODIFIED:20260319T114149Z
UID:13657-1773943200-1773952200@wiener-bildungsakademie.wien
SUMMARY:Lehrgang Wissenschaft:  Lebenssituation (Bildung / Beruf) und Risikolagen migrantischer Jugendlicher
DESCRIPTION:Im Rahmen des Lehrgangs Wissenschaft im Dialog begrüßen wir Mag. Hermann Kuschej (Institut für Höhere Studien)\, der Einblicke in seine aktuellen Forschungen zur Lebenssituation und zu Risikolagen migrantischer Jugendlicher gibt. \nIm Fokus stehen Bildung\, Beruf und soziale Herausforderungen – sowie die Frage\, welche strukturellen Bedingungen Chancen ermöglichen oder einschränken. \nModeration: Vizedirektorin Dr.in Karin Moser
URL:https://wiener-bildungsakademie.wien/event/lehrgang-wissenschaft-lebenssituation-bildung-beruf-und-risikolagen-migrantischer-jugendlicher/
LOCATION:Wiener Bildungszentrum\, Praterstraße 25a\, Wien\, 1020\, Österreich
CATEGORIES:Ausbildungsprogramm 2026 - Frühjahr
ATTACH;FMTTYPE=image/jpeg:https://wiener-bildungsakademie.wien/wp-content/uploads/2026/03/wba_Ausbildungsprogramm2026_4-5-Wissenschaft-1903.jpg
ORGANIZER;CN="WBA":MAILTO:kontakt@wiener-bildungsakademie.at
END:VEVENT
BEGIN:VEVENT
DTSTART;TZID=Europe/Vienna:20260323T180000
DTEND;TZID=Europe/Vienna:20260323T210000
DTSTAMP:20260419T173649
CREATED:20260113T100943Z
LAST-MODIFIED:20260113T100943Z
UID:13503-1774288800-1774299600@wiener-bildungsakademie.wien
SUMMARY:Kreislaufwirtschaft im Alltag – der 48er-Tandler. Abfall vermeiden\, Ressourcen schonen\, soziale Verantwortung stärken\, mit Gemeinderätin Patricia Anderle.
DESCRIPTION:Ökologisch\, praktisch\, wienerisch – der 48er-Tandler ist längst mehr als ein Geschäft für Altwaren. Seit 2015 prägt er die Wiener Abfallvermeidung und Ressourcenschonung und hat sich zu einem erfolgreichen Vorzeigemodell entwickelt. Monat für Monat finden rund 100 Tonnen gut erhaltener Gegenstände den Weg ins Sortiment und erhalten dort ein zweites Leben. 2022 wurde das Angebot mit einem zweiten Shop in der Donaustadt erweitert. Die Bilanz kann sich sehen lassen: Rund 3.000 Tonnen vermiedener Abfall und etwa 16.000 Tonnen eingespartes CO₂ – ein starkes Beispiel für wirksame Wiener Klimaschutzpolitik. \nDer Erfolg des 48er-Tandlers beruht auf einem einfachen Prinzip: Gut Erhaltenes wird nicht weggeworfen\, sondern weitergegeben. Ob Möbel\, Elektrogeräte\, Bücher\, Kleidung oder Spielzeug – das Angebot ist vielfältig. Alle Waren werden sorgfältig geprüft\, Elektrogeräte getestet und bei Bedarf repariert. So verbindet der 48er-Tandler nachhaltigen Umgang mit Ressourcen mit Wiener Charme und stärkt zugleich den sozialen Zusammenhalt\, indem die Erlöse karitative Einrichtungen wie das TierQuarTier unterstützen. \nAls Referentin begrüßen wir Patricia Anderle\, Wiener Gemeinderätin und MA-48-Sprecherin der Wiener SPÖ. In ihrem Beitrag beleuchtet sie die politische Dimension der Kreislaufwirtschaft: Welche Rolle spielt die Stadt Wien beim Ausbau ressourcenschonender Systeme? Wie können Projekte wie der 48er-Tandler Vorbild für eine nachhaltige Stadtentwicklung sein? Und welche weiteren Schritte braucht es für eine ökologische\, soziale und gerechte Stadtpolitik? \n„Die MA 48 ist die wohl bekannteste Magistratsabteilung dieser Stadt – und sie liefert: 1\,21 Millionen Tonnen Müll im Vorjahr gesammelt\, 159 öffentliche WC-Anlagen betreut. Und der 48er-Tandler zeigt\, wie beliebt und innovativ Kreislaufwirtschaft in Wien gelebt wird.“Patricia Anderle\, Wiener Gemeinderätin und MA-48-Sprecherin der Wiener SPÖ. \nDie Veranstaltung lädt dazu ein\, Kreislaufwirtschaft nicht nur als Umweltmaßnahme\, sondern als integralen Bestandteil moderner Stadtpolitik zu verstehen – praxisnah\, sozial wirksam und zukunftsorientiert. \nAnmeldung per Mail an markytan@wiener-bildungsakademie.at
URL:https://wiener-bildungsakademie.wien/event/kreislaufwirtschaft-im-alltag-der-48er-tandler-abfall-vermeiden-ressourcen-schonen-soziale-verantwortung-staerken-mit-gemeinderaetin-patricia-anderle/
LOCATION:Wiener Bildungszentrum\, Praterstraße 25a\, Wien\, 1020\, Österreich
CATEGORIES:Stadt.Leben.Politik – Die Wiener Perspektiven
ORGANIZER;CN="WBA":MAILTO:kontakt@wiener-bildungsakademie.at
END:VEVENT
END:VCALENDAR