BEGIN:VCALENDAR
VERSION:2.0
PRODID:-//Wiener Bildungsakademie - ECPv6.15.11//NONSGML v1.0//EN
CALSCALE:GREGORIAN
METHOD:PUBLISH
X-WR-CALNAME:Wiener Bildungsakademie
X-ORIGINAL-URL:https://wiener-bildungsakademie.wien
X-WR-CALDESC:Veranstaltungen für Wiener Bildungsakademie
REFRESH-INTERVAL;VALUE=DURATION:PT1H
X-Robots-Tag:noindex
X-PUBLISHED-TTL:PT1H
BEGIN:VTIMEZONE
TZID:Europe/Vienna
BEGIN:DAYLIGHT
TZOFFSETFROM:+0100
TZOFFSETTO:+0200
TZNAME:CEST
DTSTART:20250330T010000
END:DAYLIGHT
BEGIN:STANDARD
TZOFFSETFROM:+0200
TZOFFSETTO:+0100
TZNAME:CET
DTSTART:20251026T010000
END:STANDARD
BEGIN:DAYLIGHT
TZOFFSETFROM:+0100
TZOFFSETTO:+0200
TZNAME:CEST
DTSTART:20260329T010000
END:DAYLIGHT
BEGIN:STANDARD
TZOFFSETFROM:+0200
TZOFFSETTO:+0100
TZNAME:CET
DTSTART:20261025T010000
END:STANDARD
BEGIN:DAYLIGHT
TZOFFSETFROM:+0100
TZOFFSETTO:+0200
TZNAME:CEST
DTSTART:20270328T010000
END:DAYLIGHT
BEGIN:STANDARD
TZOFFSETFROM:+0200
TZOFFSETTO:+0100
TZNAME:CET
DTSTART:20271031T010000
END:STANDARD
END:VTIMEZONE
BEGIN:VEVENT
DTSTART;TZID=Europe/Vienna:20260502T100000
DTEND;TZID=Europe/Vienna:20260502T120000
DTSTAMP:20260419T173649
CREATED:20260116T111754Z
LAST-MODIFIED:20260116T111754Z
UID:13535-1777716000-1777723200@wiener-bildungsakademie.wien
SUMMARY:Positivistischer Neo-Populismus – Was steht dahinter und wie können wir ihn für unsere politische Arbeit nutzen? Wolfgang Markytan im Gespräch mit Elena Pramesberger
DESCRIPTION:Der positivistische Neo-Populismus nach Wolfgang Markytan versteht Politik als dialogischen Prozess\, der aus aufrichtigem Zuhören\, Nähe und Verständlichkeit entsteht. Im Zentrum steht die ernsthafte Auseinandersetzung mit den Sorgen\, Erfahrungen und Lebensrealitäten der Menschen. Werden diese aufgegriffen und in konkrete\, lösungsorientierte Politik übersetzt\, kann verloren gegangenes Vertrauen zurückgewonnen und können neue gesellschaftliche Mehrheiten geschaffen werden. \nDieser Ansatz nutzt bewusst die emotionale Kraft populistischer Kommunikation\, ohne in Vereinfachung\, Ausgrenzung oder Spaltung zu verfallen. Stattdessen setzt er auf Optimismus\, Solidarität und soziale Verantwortung. Politik wird so wieder als gemeinschaftliches Projekt erfahrbar – als Gegenentwurf zu Zynismus\, Resignation und undemokratischen Tendenzen. \n„Wenn Politik wirksam sein will\, muss sie dort ansetzen\, wo Menschen am Fundament ihrer Existenz stehen – bei verbrieftem Schutz\, Stabilität und Gemeinschaft – bevor sie ihnen Selbstverwirklichung verspricht. Nur so wird aus Zuhören echte Vertretung im Sinne einer demokratischen Gesellschaft.“Wolfgang Markytan\, SPÖ-Bundesbildungsgeschäftsführer. \nIm Gespräch mit Elena Pramesberger diskutiert Wolfgang Markytan\, wie dieser Ansatz in der politischen Praxis angewendet werden kann: Welche Formen der Kommunikation schaffen Nähe? Wie lassen sich komplexe Inhalte verständlich vermitteln\, ohne sie zu verkürzen? Und wie kann politische Bildungsarbeit dazu beitragen\, demokratische Handlungsmacht zu stärken? \nDiese Veranstaltung ist Teil der Ausbildungsreihe „Ideologie im Gespräch – Werte. Weltbilder. Wirklichkeit.“. Die Reihe bietet eine ideologische Grundlagen- und Vertiefungsausbildung für politisch Interessierte und verbindet theoretische Reflexion mit konkreten Herausforderungen politischer Praxis. \nAnmeldung per Mail an markytan@wiener-bildungsakademie.at
URL:https://wiener-bildungsakademie.wien/event/positivistischer-neo-populismus-was-steht-dahinter-und-wie-koennen-wir-ihn-fuer-unsere-politische-arbeit-nutzen-wolfgang-markytan-im-gespraech-mit-elena-pramesberger/
LOCATION:Wiener Bildungszentrum\, Praterstraße 25a\, Wien\, 1020\, Österreich
CATEGORIES:Ausbildungsprogramm 2026 - Frühjahr,Ideologie im Gespräch
ORGANIZER;CN="WBA":MAILTO:kontakt@wiener-bildungsakademie.at
END:VEVENT
BEGIN:VEVENT
DTSTART;TZID=Europe/Vienna:20260518T180000
DTEND;TZID=Europe/Vienna:20260518T203000
DTSTAMP:20260419T173649
CREATED:20260113T134310Z
LAST-MODIFIED:20260113T134310Z
UID:13519-1779127200-1779136200@wiener-bildungsakademie.wien
SUMMARY:Wien international: Netzwerke\, Büros\, Beziehungen. Interessen vertreten\, Kooperationen nützen\, Mehrwert schaffen\, mit Gemeinderat Alexander Ackerl.
DESCRIPTION:Wie stellt Wien seine internationalen Beziehungen so auf\, dass Kooperationen konkret nützen\, Standortvorteile sichern und europäische Werte sichtbar bleiben? Der Blick richtet sich auf die zentralen Instrumente der Stadt: internationale Netzwerke und Städtekooperationen\, die Internationalen Büros in Mittel- und Südosteuropa sowie die strategische Koordination durch die Magistratsdirektion Europa und Internationales (MD-EUI). \n„Städtepolitik endet nicht an der Stadtgrenze: Wer Wiens Interessen wirksam vertritt\, vernetzt sich klug – in Europa\, mit Partnerstädten und über unsere Auslandsbüros. So holen wir Innovationen nach Wien und tragen Wiener Lösungen nach Europa.“\nAlexander Ackerl\, Mitglied des Gemeinderatsausschusses für europäische und internationale Angelegenheiten. \nWien agiert dabei aus einer starken Position. Mehr als 40 internationale Organisationen\, über 120 Botschaften und zahlreiche weitere Vertretungen sind in der Stadt angesiedelt. Dieses Umfeld fördert Dialog\, Sicherheit und Nachhaltigkeit und schafft ideale Voraussetzungen für aktive städtische Außenbeziehungen und internationale Kooperationen. \nAls Referent führt Mag. Alexander Ackerl\, BA\, durch den Abend. Aus seiner Tätigkeit im Gemeinderatsausschuss für europäische und internationale Angelegenheiten ordnet er Maßnahmen\, politische Prioritäten und nächste Schritte ein – von EU-Kooperationen und Städtenetzwerken über Auslandsreisen bis hin zur Arbeit der Wien-Büros. Ein besonderer Fokus liegt auf Governance und Verbindlichkeit: Wie greifen europäische Rahmenbedingungen\, städtische Netzwerke und die Koordination durch die MD-EUI ineinander? Welche Vereinbarungen sind verbindlich\, und wie werden Projekte umgesetzt\, evaluiert und transparent berichtet – von den Internationalen Büros bis zu stadtweiten Programmen? \nIm Zentrum stehen die Wiener Auslandsbüros\, etwa in Belgrad\, Berlin\, Budapest\, Krakau\, Ljubljana\, Prag\, Sarajevo\, Sofia und Zagreb. Sie organisieren Austausch\, Projekte und Delegationen und fördern damit Wissenstransfer\, Partnerschaften und langfristige Kooperationen. Ergänzt wird dies durch themenspezifische Abkommen mit Partnerstädten weltweit\, die Wien als international vernetzte\, handlungsfähige und zukunftsorientierte Stadt positionieren. \nAnmeldung per Mail an markytan@wiener-bildungsakademie.at
URL:https://wiener-bildungsakademie.wien/event/wien-international-netzwerke-bueros-beziehungen-interessen-vertreten-kooperationen-nuetzen-mehrwert-schaffen-mit-gemeinderat-alexander-ackerl/
LOCATION:Wiener Bildungszentrum\, Praterstraße 25a\, Wien\, 1020\, Österreich
CATEGORIES:Stadt.Leben.Politik – Die Wiener Perspektiven
ORGANIZER;CN="WBA":MAILTO:kontakt@wiener-bildungsakademie.at
END:VEVENT
BEGIN:VEVENT
DTSTART;TZID=Europe/Vienna:20260526T180000
DTEND;TZID=Europe/Vienna:20260526T193000
DTSTAMP:20260419T173649
CREATED:20260204T140834Z
LAST-MODIFIED:20260204T140834Z
UID:13575-1779818400-1779823800@wiener-bildungsakademie.wien
SUMMARY:Feministische Gegenwarts- und Generationengespräche
DESCRIPTION:In einem neuen Gesprächsformat wollen wir feministische Themen aufgreifen und uns über vergangene\, aktuelle und zukünftige Aspekte austauschen. Dabei sollen Frauen unterschiedlicher Generationen aufeinandertreffen und ihre Standpunkte diskutieren. Wir erwarten uns spannende\, konstruktive und fruchtbare Gespräche! \nLAbg. GRin Marina Hanke\, BA (Vorsitzende der Wiener SPÖ Frauen) im Gespräch mit Staatssekretärin a.D.\, NRin a. D.\, Aufsichtsratspräsidentin Mag.a Brigitte Ederer \nZeit & Ort: Wiener Bildungszentrum\, Wien 2\, Praterstraße 25A/Mezzanin/Tür 7\, 18:00 – 19:30 Uhr \nZielgruppe: Interessierte an feministischen Themen\nProjektleitung: Dr.in Karin Moser \nAnmeldung: moser@wiener-bildungsakademie.at
URL:https://wiener-bildungsakademie.wien/event/feministische-gegenwarts-und-generationengespraeche/
LOCATION:Wiener Bildungszentrum\, Praterstraße 25a\, Wien\, 1020\, Österreich
ORGANIZER;CN="WBA":MAILTO:kontakt@wiener-bildungsakademie.at
END:VEVENT
BEGIN:VEVENT
DTSTART;TZID=Europe/Vienna:20260526T180000
DTEND;TZID=Europe/Vienna:20260526T193000
DTSTAMP:20260419T173649
CREATED:20260204T142221Z
LAST-MODIFIED:20260204T144404Z
UID:13578-1779818400-1779823800@wiener-bildungsakademie.wien
SUMMARY:Feministische Gegenwarts- und Generationengespräche
DESCRIPTION:In einem neuen Gesprächsformat wollen wir feministische Themen aufgreifen und uns über vergangene\, aktuelle und zukünftige Aspekte austauschen. Dabei sollen Frauen unterschiedlicher Generationen aufeinandertreffen und ihre Standpunkte diskutieren. Wir erwarten uns spannende\, konstruktive und fruchtbare Gespräche! \nLAbg. GRin Marina Hanke\, BA (Vorsitzende der Wiener SPÖ Frauen) im Gespräch mit Staatssekretärin a.D.\, NRin a. D.\, Aufsichtsratspräsidentin Mag.a Brigitte Ederer \nZeit & Ort: Wiener Bildungszentrum\, Wien 2\, Praterstraße 25A/Mezzanin/Tür 7\, 18:00 – 19:30 Uhr \nZielgruppe: Interessierte an feministischen Themen\nProjektleitung: Dr.in Karin Moser \nAnmeldung: moser@wiener-bildungsakademie.at
URL:https://wiener-bildungsakademie.wien/event/feministische-gegenwarts-und-generationengespraeche-2/
LOCATION:Wiener Bildungszentrum\, Praterstraße 25a\, Wien\, 1020\, Österreich
CATEGORIES:Feministische Veranstaltungen
ORGANIZER;CN="WBA":MAILTO:kontakt@wiener-bildungsakademie.at
END:VEVENT
END:VCALENDAR