BEGIN:VCALENDAR
VERSION:2.0
PRODID:-//Wiener Bildungsakademie - ECPv6.15.20//NONSGML v1.0//EN
CALSCALE:GREGORIAN
METHOD:PUBLISH
X-WR-CALNAME:Wiener Bildungsakademie
X-ORIGINAL-URL:https://wiener-bildungsakademie.wien
X-WR-CALDESC:Veranstaltungen für Wiener Bildungsakademie
REFRESH-INTERVAL;VALUE=DURATION:PT1H
X-Robots-Tag:noindex
X-PUBLISHED-TTL:PT1H
BEGIN:VTIMEZONE
TZID:Europe/Vienna
BEGIN:DAYLIGHT
TZOFFSETFROM:+0100
TZOFFSETTO:+0200
TZNAME:CEST
DTSTART:20240331T010000
END:DAYLIGHT
BEGIN:STANDARD
TZOFFSETFROM:+0200
TZOFFSETTO:+0100
TZNAME:CET
DTSTART:20241027T010000
END:STANDARD
BEGIN:DAYLIGHT
TZOFFSETFROM:+0100
TZOFFSETTO:+0200
TZNAME:CEST
DTSTART:20250330T010000
END:DAYLIGHT
BEGIN:STANDARD
TZOFFSETFROM:+0200
TZOFFSETTO:+0100
TZNAME:CET
DTSTART:20251026T010000
END:STANDARD
BEGIN:DAYLIGHT
TZOFFSETFROM:+0100
TZOFFSETTO:+0200
TZNAME:CEST
DTSTART:20260329T010000
END:DAYLIGHT
BEGIN:STANDARD
TZOFFSETFROM:+0200
TZOFFSETTO:+0100
TZNAME:CET
DTSTART:20261025T010000
END:STANDARD
END:VTIMEZONE
BEGIN:VEVENT
DTSTART;TZID=Europe/Vienna:20251020T180000
DTEND;TZID=Europe/Vienna:20251020T220000
DTSTAMP:20260425T141640
CREATED:20250701T100705Z
LAST-MODIFIED:20250701T101826Z
UID:12938-1760983200-1760997600@wiener-bildungsakademie.wien
SUMMARY:„Wien handelt – Klima- und Umweltpolitik mit Verantwortung“? mit Gemeinderätin Nina Abrahamczik
DESCRIPTION:Im Rahmen unserer Veranstaltungsreihe laden wir herzlich zu einem Themenabend rund um Klima- und Umweltpolitik in Wien ein – ein Bereich\, der zunehmend über Lebensqualität\, soziale Gerechtigkeit und die Zukunft unserer Stadt mitentscheidet. \nGemeinsam mit der Gemeinderätin Nina Abrahamczik werfen wir einen Blick auf aktuelle politische Strategien und Maßnahmen der Stadt in den Bereichen Klimaresilienz und Nachhaltigkeit. Welche Programme sind bereits auf Schiene? Wo liegen die größten Herausforderungen? Und wie können ökologische und soziale Anliegen zusammen gedacht und umgesetzt werden? \nDie Veranstaltung richtet sich an alle Interessierten – unabhängig von Vorwissen – und bietet Raum für fundierte Einblicke\, offene Fragen und lebendigen Austausch. \nTermin: Montag\, 20. Oktober 2025\, 18:00 Uhr \nOrt: Wiener Bildungszentrum\, Wien 2\, Praterstraße 25a/Tür 7\, U1-Station Nestroyplatz \nANMELDUNG HIER
URL:https://wiener-bildungsakademie.wien/event/wien-handelt-klima-und-umweltpolitik-mit-verantwortung-mit-gemeinderaetin-nina-abrahamczik/
LOCATION:Wiener Bildungszentrum\, Praterstraße 25a\, Wien\, 1020\, Österreich
CATEGORIES:Ausbildungsprogramm 2025 Herbst,Wiener Perspektiven
ATTACH;FMTTYPE=image/jpeg:https://wiener-bildungsakademie.wien/wp-content/uploads/2025/07/wba_Ausbildungsprogramm2025_eventbrite_2160x1080px6.jpg
ORGANIZER;CN="WBA":MAILTO:kontakt@wiener-bildungsakademie.at
END:VEVENT
END:VCALENDAR